BEGIN:VCALENDAR
VERSION:2.0
PRODID:-//ChamberMaster//Event Calendar 2.0//EN
METHOD:PUBLISH
X-PUBLISHED-TTL:P3D
REFRESH-INTERVAL:P3D
CALSCALE:GREGORIAN
BEGIN:VEVENT
DTSTART:20181212T143000Z
DTEND:20181212T153000Z
X-MICROSOFT-CDO-ALLDAYEVENT:FALSE
SUMMARY:Women’s Networking Breakfast
DESCRIPTION:Are you looking to grow your business and generate leads? Come join us for our first ever Women's Networking Breakfast to network and build relationships with the women of the Denver Jewish Chamber of Commerce.\n\n\n\nThe meeting will consist of the following:\n\n         Networking\n\n         Member introductions (30 second elevator speech)\n\n         Member presentations\n\n         Announcements\n\n         Additional networking\n\n    \n\nCost:\n\nFull breakfast plus beverage: $13\n\nBeverage only: $5\n\nPaid directly to the New York Deli News
X-ALT-DESC;FMTTYPE=text/html:Are you looking to grow your business and generate leads? Come join us for our first ever Women&rsquo\;s Networking Breakfast to network and build relationships with the women of the Denver Jewish Chamber of Commerce.<br />\n<br />\n<strong>The meeting will consist of the following:</strong><br />\n&nbsp\;&nbsp\; &nbsp\;&bull\;&nbsp\;&nbsp\; &nbsp\;Networking<br />\n&nbsp\;&nbsp\; &nbsp\;&bull\;&nbsp\;&nbsp\; &nbsp\;Member introductions (30 second elevator speech)<br />\n&nbsp\;&nbsp\; &nbsp\;&bull\;&nbsp\;&nbsp\; &nbsp\;Member presentations<br />\n&nbsp\;&nbsp\; &nbsp\;&bull\;&nbsp\;&nbsp\; &nbsp\;Announcements<br />\n&nbsp\;&nbsp\; &nbsp\;&bull\;&nbsp\;&nbsp\; &nbsp\;Additional networking<br />\n&nbsp\;&nbsp\; &nbsp\;<br />\n<strong>Cost:</strong><br />\nFull breakfast plus beverage: $13<br />\nBeverage only: $5<br />\nPaid directly to the New York Deli News<br />\n<br />\n&nbsp\;
LOCATION:The New York Deli News 7105 E. Hampden Ave.\, Denver 80224
UID:e.2146.2020
SEQUENCE:3
DTSTAMP:20260425T184624Z
URL:https://business.denverjewishchamber.com/events/details/women-s-networking-breakfast-2020
END:VEVENT

END:VCALENDAR
