BEGIN:VCALENDAR
VERSION:2.0
PRODID:-//ChamberMaster//Event Calendar 2.0//EN
METHOD:PUBLISH
X-PUBLISHED-TTL:P3D
REFRESH-INTERVAL:P3D
CALSCALE:GREGORIAN
BEGIN:VEVENT
DTSTART:20200515T003000Z
DTEND:20200515T020000Z
X-MICROSOFT-CDO-ALLDAYEVENT:FALSE
SUMMARY:Virtual Happy Hour and Trivia
DESCRIPTION:Join us for a fun night of ice breakers\, friendly competition\, and trivia! There will be prizes for the evening's winners! Grab a drink\, put on your fancy pajamas and brush up on your knowledge of all things trivia.
X-ALT-DESC;FMTTYPE=text/html:<span style="color: rgb(82\, 74\, 75)\; font-family: Bitter\, serif\; font-size: 28px\; text-align: center\; white-space: pre-wrap\;">Join us for a fun night of ice breakers\, friendly competition\, and trivia! There will be prizes for the evening&#39\;s winners! Grab a drink\, put on your fancy pajamas and brush up on your knowledge of all things trivia.</span>
LOCATION:Meeting via Zoom. For more information and Zoom link email: sheila@denverjewishchamber.com
UID:e.2146.2172
SEQUENCE:3
DTSTAMP:20260424T221557Z
URL:https://business.denverjewishchamber.com/events/details/virtual-happy-hour-and-trivia-2172
END:VEVENT

END:VCALENDAR
