BEGIN:VCALENDAR
VERSION:2.0
PRODID:-//ChamberMaster//Event Calendar 2.0//EN
METHOD:PUBLISH
X-PUBLISHED-TTL:P3D
REFRESH-INTERVAL:P3D
CALSCALE:GREGORIAN
BEGIN:VEVENT
DTSTART:20190224T030000Z
DTEND:20190224T050000Z
X-MICROSOFT-CDO-ALLDAYEVENT:FALSE
SUMMARY:The Sklar Brothers
DESCRIPTION:The Sklar Brothers: Stories about tradition. Told in a non-traditional way.\n\nPresented by the Denver Jewish Chamber of Commerce and the JCC Denver\n\n\n\nJoin us for a very special evening with critically acclaimed comedic duo\, the Sklar Brothers\, as they discuss their Jewish roots and why comedy is so important during times of rising antisemitism.\n\n\n\nThey have never strayed too far from their Midwestern Jewish roots and their Judaism has informed and been a part of their career.\n\n\n\nDoors open at 6:30 pm\, so come grab a drink (beer and wine will be available for purchase) and a bite (catered by Lymone Catering) and schmooze before the show.\n\n\n\nFor more information and to purchase tickets go to Sklar Brothers Denver\n\n\n\nAbout The Sklar Brothers\n\nThe Sklar Brothers\, are a post-modern take on a stand-up comedy duo. They have released 4 critically acclaimed comedy albums\, have had two Comedy Central Half Hour Presents specials\, and currently have a one hour stand up special on Netflix\, titled "What Are We Talking About"\n\n\n\nLearn more about them at The Sklar Brothers.
X-ALT-DESC;FMTTYPE=text/html:<span style="font-size:14px\;"><span style="font-family:arial\;"><strong>The Sklar Brothers: Stories about tradition. Told in a non-traditional way.</strong><br />\n<em>Presented by the&nbsp\;Denver Jewish Chamber of Commerce and the JCC Denver</em><br />\n<br />\nJoin us for a very special evening with critically acclaimed comedic duo\, the Sklar Brothers\, as they discuss their Jewish roots and why comedy is so important during times of rising antisemitism.<br />\n<br />\nThey have never strayed too far from their Midwestern Jewish roots and their Judaism has informed and been a part of their career.<br />\n<br />\nDoors open at 6:30 pm\, so come grab a drink (beer and wine will be available for purchase) and a bite (catered by Lymone Catering) and schmooze before the show.<br />\n<br />\n<strong>For more information and to purchase tickets go to <a href="https://denverjewishchamber.com/sklar-brothers/" target="_blank">Sklar Brothers Denver</a></strong><br />\n<br />\n<strong>About The Sklar Brothers</strong><br />\nThe Sklar Brothers\, are a post-modern take on a stand-up comedy duo. They have released 4 critically acclaimed comedy albums\, have had two Comedy Central Half Hour Presents specials\, and currently have a one hour stand up special on Netflix\, titled &ldquo\;What Are We Talking About&rdquo\;<br />\n<br />\nLearn more about them at <a href="http://www.supersklars.com/" target="_blank">The Sklar Brothers</a>.</span></span><br />\n<br />\n<br />\n&nbsp\;
LOCATION:JCC Mizel Arts and Culture Center The Elaine Wolf Theatre 350 S. Dahlia St. Denver\, CO 80246
UID:e.2146.2155
SEQUENCE:3
DTSTAMP:20260425T162621Z
URL:https://business.denverjewishchamber.com/events/details/the-sklar-brothers-2155
END:VEVENT

END:VCALENDAR
