BEGIN:VCALENDAR
VERSION:2.0
PRODID:-//ChamberMaster//Event Calendar 2.0//EN
METHOD:PUBLISH
X-PUBLISHED-TTL:P3D
REFRESH-INTERVAL:P3D
CALSCALE:GREGORIAN
BEGIN:VEVENT
DTSTART:20201124T183000Z
DTEND:20201124T193000Z
X-MICROSOFT-CDO-ALLDAYEVENT:FALSE
SUMMARY:Special Networking Lunch with Governor Jared Polis
DESCRIPTION:Join Governor Polis as he discusses the current economic impact on small businesses.\nCome prepared for an opportunity to ask Governor Polis your most pressing questions following his brief address exclusively for the Denver Jewish Chamber of Commerce.\n\n \n\n11:30 -12:30 PM\n\nVia Zoom\n\nRegister for Zoom access\n\n \n\nAs part of our monthly networking lunch we will also enjoy a ten minute presentation by one of our esteemed members. This luncheon will have a modified structure to accommodate this special opportunity with the Governor.
X-ALT-DESC;FMTTYPE=text/html:<br />\n<span style="color:#0000FF\;"><span style="font-family: Georgia\, &quot\;Times New Roman&quot\;\, Times\, serif\; font-size: 30px\; font-style: italic\; text-align: center\; white-space: pre-wrap\;">Join Governor Polis as he discusses the current economic impact on small businesses.</span></span>\n<div style="color: rgb(65\, 41\, 30)\; font-family: Arial\, Verdana\, Helvetica\, sans-serif\; font-size: 14px\; text-align: center\; white-space: pre-wrap\;">Come prepared for an opportunity to ask Governor Polis your most pressing questions following his brief address exclusively for the Denver Jewish Chamber of Commerce.</div>\n\n<div style="color: rgb(65\, 41\, 30)\; font-family: Arial\, Verdana\, Helvetica\, sans-serif\; font-size: 14px\; text-align: center\; white-space: pre-wrap\;">&nbsp\;</div>\n\n<div style="color: rgb(65\, 41\, 30)\; font-family: Arial\, Verdana\, Helvetica\, sans-serif\; font-size: 14px\; text-align: center\; white-space: pre-wrap\;"><span style="font-weight: bold\;">11:30 -12:30 PM</span></div>\n\n<div style="color: rgb(65\, 41\, 30)\; font-family: Arial\, Verdana\, Helvetica\, sans-serif\; font-size: 14px\; text-align: center\; white-space: pre-wrap\;"><span style="font-weight: bold\;">Via Zoom</span></div>\n\n<div style="color: rgb(65\, 41\, 30)\; font-family: Arial\, Verdana\, Helvetica\, sans-serif\; font-size: 14px\; text-align: center\; white-space: pre-wrap\;"><span style="font-weight: bold\;">Register for Zoom access</span></div>\n\n<div style="color: rgb(65\, 41\, 30)\; font-family: Arial\, Verdana\, Helvetica\, sans-serif\; font-size: 14px\; text-align: center\; white-space: pre-wrap\;">&nbsp\;</div>\n\n<div style="color: rgb(65\, 41\, 30)\; font-family: Arial\, Verdana\, Helvetica\, sans-serif\; font-size: 14px\; text-align: center\; white-space: pre-wrap\;">As part of our monthly networking lunch we will also enjoy a ten minute presentation by one of our esteemed members. This luncheon will have a modified structure to accommodate this special opportunity with the Governor.</div>\n
LOCATION:
UID:e.2146.1921
SEQUENCE:3
DTSTAMP:20260423T195216Z
URL:https://business.denverjewishchamber.com/events/details/special-networking-lunch-with-governor-jared-polis-1921
END:VEVENT

END:VCALENDAR
