BEGIN:VCALENDAR
VERSION:2.0
PRODID:-//ChamberMaster//Event Calendar 2.0//EN
METHOD:PUBLISH
X-PUBLISHED-TTL:P3D
REFRESH-INTERVAL:P3D
CALSCALE:GREGORIAN
BEGIN:VEVENT
DTSTART:20221129T183000Z
DTEND:20221129T193000Z
X-MICROSOFT-CDO-ALLDAYEVENT:FALSE
SUMMARY:Special Kosher Networking Lunch
DESCRIPTION:Join the DJCC for a special Kosher networking luncheon at the East Side Deli
X-ALT-DESC;FMTTYPE=text/html:Join the DJCC for a special Kosher networking luncheon at the East Side Deli&nbsp\;
LOCATION:East Side Deli 499 S Elm Street Glendale\, CO 80246
UID:e.2146.2345
SEQUENCE:3
DTSTAMP:20260422T190930Z
URL:https://business.denverjewishchamber.com/events/details/special-kosher-networking-lunch-2345
END:VEVENT

END:VCALENDAR
