BEGIN:VCALENDAR
VERSION:2.0
PRODID:-//ChamberMaster//Event Calendar 2.0//EN
METHOD:PUBLISH
X-PUBLISHED-TTL:P3D
REFRESH-INTERVAL:P3D
CALSCALE:GREGORIAN
BEGIN:VEVENT
DTSTART:20201202T143000Z
DTEND:20201202T153000Z
X-MICROSOFT-CDO-ALLDAYEVENT:FALSE
SUMMARY:Special Dreidel Networking Breakfast
DESCRIPTION:This breakfast will be a special edition of Dreidel Networking.\n\nThis is one of the best events of the year.\n\n\n\nWe will break into small groups of 4-5 members\, spin dreidels and have fun!\n\n \n\nEach group will have one of four questions to answer based on your dreidel spin.\n\n \n\nBYOD (Bring your own dreidel) or use a virtual one: https://www.jewfaq.org/dreidel/play.htm\n\n \n\nZoom invitation will go out on November 30th.  We also will kick off our Chocolate Holiday Fundraiser.  We have partnered with Stargazer Fine Chocolates to offer you chocolate gelt\, solid chocolate dreidels and menorahs\, and so much more.  The Chamber gets 10% of each sale for the entire month of December.
X-ALT-DESC;FMTTYPE=text/html:<p style="color: rgb(32\, 31\, 30)\; font-family: Arial\; font-size: 13.3333px\;">This breakfast will be a special edition of Dreidel Networking.</p>\n\n<p style="color: rgb(32\, 31\, 30)\; font-size: 11pt\; font-family: Calibri\, sans-serif\; margin: 0px\;">This is one of the best events of the year.</p>\n\n<p style="color: rgb(32\, 31\, 30)\; font-size: 11pt\; font-family: Calibri\, sans-serif\; margin: 0px\;"><br />\nWe will break into small groups of 4-5 members\, spin&nbsp\;<span class="x_markybx9euptk" style="margin: 0px\; padding: 0px\; border: 0px\; font: inherit\; vertical-align: baseline\; color: inherit\;">dreidel</span>s and have fun!</p>\n\n<p style="color: rgb(32\, 31\, 30)\; font-size: 11pt\; font-family: Calibri\, sans-serif\; margin: 0px\;">&nbsp\;</p>\n\n<p style="color: rgb(32\, 31\, 30)\; font-size: 11pt\; font-family: Calibri\, sans-serif\; margin: 0px\;">Each group will have one of four questions to answer based on your&nbsp\;<span class="x_markybx9euptk" style="margin: 0px\; padding: 0px\; border: 0px\; font: inherit\; vertical-align: baseline\; color: inherit\;">dreidel</span>&nbsp\;spin.</p>\n\n<p style="color: rgb(32\, 31\, 30)\; font-size: 11pt\; font-family: Calibri\, sans-serif\; margin: 0px\;">&nbsp\;</p>\n\n<p style="color: rgb(32\, 31\, 30)\; font-size: 11pt\; font-family: Calibri\, sans-serif\; margin: 0px\;">BYOD (Bring your own&nbsp\;<span class="x_markybx9euptk" style="margin: 0px\; padding: 0px\; border: 0px\; font: inherit\; vertical-align: baseline\; color: inherit\;">dreidel</span>) or use a virtual one:&nbsp\;<a data-auth="NotApplicable" href="https://www.jewfaq.org/dreidel/play.htm" id="LPlnk617213" rel="noopener noreferrer" style="margin: 0px\; padding: 0px\; border: 0px\; font: inherit\; vertical-align: baseline\;" target="_blank">https://www.jewfaq.org/<span class="x_markybx9euptk" style="margin: 0px\; padding: 0px\; border: 0px\; font: inherit\; vertical-align: baseline\; color: inherit\;">dreidel</span>/play.htm</a></p>\n\n<div class="x_LPBorder697117" id="LPBorder_GTaHR0cHM6Ly93d3cuamV3ZmFxLm9yZy9kcmVpZGVsL3BsYXkuaHRt" style="margin: 16px 0px\; padding: 0px\; border: 0px\; font: inherit\; vertical-align: baseline\; color: inherit\; width: 800px\; max-width: 800px\; min-width: 424px\; position: relative\;">&nbsp\;</div>\n\n<p style="color: rgb(32\, 31\, 30)\; font-family: Arial\; font-size: 13.3333px\;">Zoom invitation will go out on November 30th.&nbsp\; We also will kick off our Chocolate Holiday Fundraiser.&nbsp\; We have partnered with Stargazer Fine Chocolates to offer you chocolate gelt\, solid chocolate dreidels and menorahs\, and so much more.&nbsp\; The Chamber gets 10% of each sale for the entire month of December.&nbsp\;&nbsp\;</p>\n
LOCATION:Virtual Event via Zoom email sheila@denverjewishchamber.com for link and information
UID:e.2146.1438
SEQUENCE:3
DTSTAMP:20260424T105110Z
URL:https://business.denverjewishchamber.com/events/details/special-dreidel-networking-breakfast-1438
END:VEVENT

END:VCALENDAR
