BEGIN:VCALENDAR
VERSION:2.0
PRODID:-//ChamberMaster//Event Calendar 2.0//EN
METHOD:PUBLISH
X-PUBLISHED-TTL:P3D
REFRESH-INTERVAL:P3D
CALSCALE:GREGORIAN
BEGIN:VEVENT
DTSTART:20200828T020000Z
DTEND:20200828T033000Z
X-MICROSOFT-CDO-ALLDAYEVENT:FALSE
SUMMARY:Sklarantine Comedy with the Sklar Brothers
DESCRIPTION:The Denver Jewish Chamber of Commerce Presents:\n\n \n\nA Special Evening with The Sklar Brothers\n\nwith guest Host Ben Glieb\n\n \n\nSponsored by The Staenberg Group\n\nand hosted by Nowhere Comedy Club\n\n \n\nThe Ben Gleib was named by TBS one of the "funniest comedians working today". He's host of the Emmy nominated "Idiotest" currently trending on Netflix\, and was one of the stars of "Chelsea Lately". His Showtime standup special "Neurotic Gangster" is now on Amazon Prime\, and he hosts "The Social Distancing Social Club" online. He's been on "The Late Late Show"\, "The Tonight Show" and Comedy Central\, and is in the movies "Jay & Silent Bob Reboot"\, "Ice Age: Continental Drift"\, and "The Book of Life". He was also the creator of the "Telethon for America" which he hosted with Olivia Munn. \n\n \n\n Sklar Brothers\, are a post-modern take on a stand up comedy duo. Neil Strauss of the New York Times once wrote "Their comedy accepts the reality of being twins but does not use it as a crutch. Instead\, they work their physical and mental similarities and correspondences\, their status as imperfect carbon copies of each other. In their comedy the straight man is often an echo." They have released 6 critically acclaimed comedy albums\, have had two Comedy Central Half Hour Presents specials\, and currently have a one hour stand up special on Netflix\, titled "What Are We Talking About" and another one hour special that premiered on the Starz Network in May of 2018 called "Hipster Ghosts". Hipster Ghosts is still available on the Starz App or at starz.com.\n\nRandy and Jason are also writers\, directors and actors appearing in a wide variety of shows from Entourage to It's Always Sunny in Philadelphia to Curb Your Enthusiasm to Better Call Saul. They are currently recurring characters\, the Drs. Green\, on TruTV's Those Who Can't. However\, they are perhaps most well known for their show Cheap Seats\, a cult hit that appeared on ESPN Classic for 77 episodes.\n\nTheir popular sports/comedy podcast View From the Cheap Seats is available on the Starburns Podcasting Network. Their hit podcast Dumb People Town with cohost Dan Van Kirk is currently being developed as a narrative animated show with Sony for You Tube Premium.
X-ALT-DESC;FMTTYPE=text/html:<div align="center" style="color: rgb(87\, 87\, 87)\; font-family: Arial\, Verdana\, Helvetica\, sans-serif\; font-size: 12px\; text-align: center\;"><span style="font-size: 20px\; color: rgb(54\, 97\, 189)\; font-family: Tahoma\, Geneva\, sans-serif\; font-weight: bold\;">The Denver Jewish Chamber of Commerce Presents:</span></div>\n\n<div align="center" style="color: rgb(87\, 87\, 87)\; font-family: Arial\, Verdana\, Helvetica\, sans-serif\; font-size: 12px\; text-align: center\;">&nbsp\;</div>\n\n<div align="center" style="color: rgb(87\, 87\, 87)\; font-family: Arial\, Verdana\, Helvetica\, sans-serif\; font-size: 12px\; text-align: center\;"><span style="font-size: 20px\; color: rgb(255\, 0\, 0)\; font-family: Tahoma\, Geneva\, sans-serif\; font-weight: bold\;">A Special Evening with The Sklar Brothers</span></div>\n\n<div align="center" style="color: rgb(87\, 87\, 87)\; font-family: Arial\, Verdana\, Helvetica\, sans-serif\; font-size: 12px\; text-align: center\;"><span style="font-size: 20px\; color: rgb(255\, 0\, 0)\; font-family: Tahoma\, Geneva\, sans-serif\; font-weight: bold\;">with guest Host Ben Glieb</span></div>\n\n<div align="center" style="color: rgb(87\, 87\, 87)\; font-family: Arial\, Verdana\, Helvetica\, sans-serif\; font-size: 12px\; text-align: center\;">&nbsp\;</div>\n\n<div align="center" style="color: rgb(87\, 87\, 87)\; font-family: Arial\, Verdana\, Helvetica\, sans-serif\; font-size: 12px\; text-align: center\;"><span style="font-size: 20px\; color: rgb(255\, 0\, 0)\; font-family: Tahoma\, Geneva\, sans-serif\; font-weight: bold\;">Sponsored by The Staenberg Group</span></div>\n\n<div align="center" style="color: rgb(87\, 87\, 87)\; font-family: Arial\, Verdana\, Helvetica\, sans-serif\; font-size: 12px\; text-align: center\;"><span style="font-size: 20px\; color: rgb(255\, 0\, 0)\; font-family: Tahoma\, Geneva\, sans-serif\; font-weight: bold\;">and hosted by Nowhere Comedy Club</span></div>\n\n<div align="center" style="color: rgb(87\, 87\, 87)\; font-family: Arial\, Verdana\, Helvetica\, sans-serif\; font-size: 12px\; text-align: center\;">&nbsp\;</div>\n\n<div align="center" style="color: rgb(87\, 87\, 87)\; font-family: Arial\, Verdana\, Helvetica\, sans-serif\; font-size: 12px\; text-align: center\;"><span style="font-size: 24px\; color: rgb(255\, 255\, 255)\;">The</span><span style="font-size: 24px\; color: rgb(35\, 35\, 35)\;">&nbsp\;</span><span style="font-size: 14px\; color: rgb(0\, 0\, 0)\; font-family: Tahoma\, Geneva\, sans-serif\;">Ben Gleib was named by TBS one of the &quot\;funniest comedians working today&rdquo\;. He&rsquo\;s host of the Emmy nominated &quot\;Idiotest&quot\; currently trending on Netflix\, and was one of the stars of &ldquo\;Chelsea Lately&rdquo\;.&nbsp\;His Showtime standup special &ldquo\;Neurotic Gangster&rdquo\; is now on Amazon Prime\, and he hosts &ldquo\;The Social Distancing Social Club&rdquo\; online.&nbsp\;He&rsquo\;s been on &ldquo\;The Late Late Show&rdquo\;\, &ldquo\;The Tonight Show&rdquo\; and Comedy Central\, and is in the movies &ldquo\;Jay &amp\; Silent Bob Reboot&rdquo\;\, &ldquo\;Ice Age: Continental Drift&rdquo\;\, and &ldquo\;The Book of Life&rdquo\;. He was also the creator of the &ldquo\;Telethon for America&rdquo\; which he hosted with Olivia Munn.&nbsp\;</span></div>\n\n<div align="center" style="color: rgb(87\, 87\, 87)\; font-family: Arial\, Verdana\, Helvetica\, sans-serif\; font-size: 12px\; text-align: center\;">&nbsp\;</div>\n\n<div align="center" style="color: rgb(87\, 87\, 87)\; font-family: Arial\, Verdana\, Helvetica\, sans-serif\; font-size: 12px\; text-align: center\;"><span style="font-size: 13px\; color: rgb(34\, 34\, 34)\; font-family: Tahoma\, Geneva\, sans-serif\;">&nbsp\;</span><span style="font-size: 14px\; color: rgb(35\, 35\, 35)\; font-family: Tahoma\, Geneva\, sans-serif\;">Sklar Brothers\, are a post-modern take on a stand up comedy duo. Neil Strauss of the New York Times once wrote &ldquo\;Their comedy accepts the reality of being twins but does not use it as a crutch. Instead\, they work their physical and mental similarities and correspondences\, their status as imperfect carbon copies of each other. In their comedy the straight man is often an echo.&rdquo\; They have released 6 critically acclaimed comedy albums\, have had two Comedy Central Half Hour Presents specials\, and currently have a one hour stand up special on Netflix\, titled &ldquo\;What Are We Talking About&rdquo\; and another one hour special that premiered on the Starz Network in May of 2018 called &ldquo\;Hipster Ghosts&rdquo\;.&nbsp\;Hipster Ghosts is still available on the Starz App or at starz.com.</span></div>\n\n<div align="center" style="color: rgb(87\, 87\, 87)\; font-family: Arial\, Verdana\, Helvetica\, sans-serif\; font-size: 12px\; text-align: center\;"><span style="font-size: 14px\; color: rgb(35\, 35\, 35)\; font-family: Tahoma\, Geneva\, sans-serif\;">Randy and Jason are also writers\, directors and actors appearing in a wide variety of shows from Entourage to It&rsquo\;s Always Sunny in Philadelphia to Curb Your Enthusiasm to Better Call Saul. They are currently recurring characters\, the Drs. Green\, on TruTV&rsquo\;s Those Who Can&rsquo\;t. However\, they are perhaps most well known for their show Cheap Seats\, a cult hit that appeared on ESPN Classic for 77 episodes.</span></div>\n\n<div align="center" style="color: rgb(87\, 87\, 87)\; font-family: Arial\, Verdana\, Helvetica\, sans-serif\; font-size: 12px\; text-align: center\;"><span style="font-size: 14px\; color: rgb(35\, 35\, 35)\; font-family: Tahoma\, Geneva\, sans-serif\;">Their popular sports/comedy podcast View From the Cheap Seats is available on the Starburns Podcasting Network.&nbsp\;Their hit podcast Dumb People Town with cohost Dan Van Kirk is currently being developed as a narrative animated show with Sony for You Tube Premium.</span></div>\n
LOCATION:Nowhere Comedy Club Virtual Event
UID:e.2146.2175
SEQUENCE:3
DTSTAMP:20260424T174321Z
URL:https://business.denverjewishchamber.com/events/details/sklarantine-comedy-with-the-sklar-brothers-2175
END:VEVENT

END:VCALENDAR
