BEGIN:VCALENDAR
VERSION:2.0
PRODID:-//ChamberMaster//Event Calendar 2.0//EN
METHOD:PUBLISH
X-PUBLISHED-TTL:P3D
REFRESH-INTERVAL:P3D
CALSCALE:GREGORIAN
BEGIN:VEVENT
DTSTART:20220518T080000Z
DTEND:20220518T093000Z
X-MICROSOFT-CDO-ALLDAYEVENT:FALSE
SUMMARY:Real World Threats: Safety in our Jewish Communities
DESCRIPTION:Our Jewish communities have been facing an increase in attacks and antisemitism across the country. Being empowered to act in the face of such danger is at the core of the mission of the Secure Community Network  -- To ensure the safety\, security\, and resiliency of the Jewish community in North America.\n\n \n\nPlease join us for a very important evening of education and training with Phil Niedrignhaus\, Regional Security Advisor of Secure Community Network. Counteracting active threat training (CATT): a comprehensive training program to counter an active threat event developed for faith-based institutions and houses of worship.\n\n \n\nThis free event is brought to you in collaboration with the Denver Jewish Chamber of Commerce and Hebrew Educational Alliance.
X-ALT-DESC;FMTTYPE=text/html:<p style="caret-color: rgb(34\, 34\, 34)\; color: rgb(34\, 34\, 34)\; font-family: Arial\, Helvetica\, sans-serif\;"><span style="font-size: 12pt\;">Our Jewish communities have been facing an increase in attacks and antisemitism across the country. Being empowered to act in the face of such danger is at the core of the mission of the Secure Community Network&nbsp\; --&nbsp\;<i><span style="color: black\;">To ensure the safety\,&nbsp\;security\, and resiliency&nbsp\;of the Jewish community in North America.</span></i></span></p>\n\n<p style="caret-color: rgb(34\, 34\, 34)\; color: rgb(34\, 34\, 34)\; font-family: Arial\, Helvetica\, sans-serif\;"><span style="font-size: 12pt\;">&nbsp\;</span></p>\n\n<p style="caret-color: rgb(34\, 34\, 34)\; color: rgb(34\, 34\, 34)\; font-family: Arial\, Helvetica\, sans-serif\;"><span style="font-size: 12pt\;">Please join us for a very important evening of education and training with Phil Niedrignhaus\, Regional Security Advisor of&nbsp\;</span><span style="font-size: 12pt\; color: black\;">Secure Community Network. Counteracting active threat training (CATT): a comprehensive training program to counter an active threat event developed for faith-based institutions and houses of worship.</span></p>\n\n<p style="caret-color: rgb(34\, 34\, 34)\; color: rgb(34\, 34\, 34)\; font-family: Arial\, Helvetica\, sans-serif\;"><span style="font-size: 12pt\; color: black\;">&nbsp\;</span></p>\n\n<p style="caret-color: rgb(34\, 34\, 34)\; color: rgb(34\, 34\, 34)\; font-family: Arial\, Helvetica\, sans-serif\;"><span style="font-size: 12pt\; color: black\;">This free event is brought to you in collaboration with the Denver Jewish Chamber of Commerce and Hebrew Educational Alliance.</span></p>\n
LOCATION:3600 S Ivanhoe St Denver\, CO 80237
UID:e.2146.2319
SEQUENCE:3
DTSTAMP:20260423T053532Z
URL:https://business.denverjewishchamber.com/events/details/real-world-threats-safety-in-our-jewish-communities-2319
END:VEVENT

END:VCALENDAR
