BEGIN:VCALENDAR
VERSION:2.0
PRODID:-//ChamberMaster//Event Calendar 2.0//EN
METHOD:PUBLISH
X-PUBLISHED-TTL:P3D
REFRESH-INTERVAL:P3D
CALSCALE:GREGORIAN
BEGIN:VEVENT
DTSTART:20230111T073000Z
DTEND:20230111T083000Z
X-MICROSOFT-CDO-ALLDAYEVENT:FALSE
SUMMARY:New Member Orientation
DESCRIPTION:Come join us to welcome the newest members to the Denver Jewish Chamber of Commerce!
X-ALT-DESC;FMTTYPE=text/html:<span style="color: rgb(0\, 105\, 170)\; font-family: Arial\, Verdana\, Helvetica\, sans-serif\; font-size: 18px\; font-weight: bold\; text-align: center\; caret-color: rgb(62\, 62\, 62)\;">Come join us to welcome the </span><span class="il" style="color: rgb(0\, 105\, 170)\; font-family: Arial\, Verdana\, Helvetica\, sans-serif\; font-size: 18px\; font-weight: bold\; text-align: center\; caret-color: rgb(62\, 62\, 62)\;">newest</span><span style="color: rgb(0\, 105\, 170)\; font-family: Arial\, Verdana\, Helvetica\, sans-serif\; font-size: 18px\; font-weight: bold\; text-align: center\; caret-color: rgb(62\, 62\, 62)\;"> </span><span class="il" style="color: rgb(0\, 105\, 170)\; font-family: Arial\, Verdana\, Helvetica\, sans-serif\; font-size: 18px\; font-weight: bold\; text-align: center\; caret-color: rgb(62\, 62\, 62)\;">members&nbsp\;</span><span style="color: rgb(0\, 105\, 170)\; font-family: Arial\, Verdana\, Helvetica\, sans-serif\; font-size: 18px\; font-weight: bold\; text-align: center\; caret-color: rgb(62\, 62\, 62)\;">to the Denver Jewish Chamber of Commerce!</span><br />\n&nbsp\;
LOCATION:First Citizens Bank 3611 E 1st Ave Denver\, CO 80206
UID:e.2146.2346
SEQUENCE:3
DTSTAMP:20260422T170350Z
URL:https://business.denverjewishchamber.com/events/details/new-member-orientation-2346
END:VEVENT

END:VCALENDAR
