BEGIN:VCALENDAR
VERSION:2.0
PRODID:-//ChamberMaster//Event Calendar 2.0//EN
METHOD:PUBLISH
X-PUBLISHED-TTL:P3D
REFRESH-INTERVAL:P3D
CALSCALE:GREGORIAN
BEGIN:VEVENT
DTSTART:20201111T003000Z
DTEND:20201111T023000Z
X-MICROSOFT-CDO-ALLDAYEVENT:FALSE
SUMMARY:New Member Orientation
DESCRIPTION:Please join us for our quarterly New Member Orientation. You will have the opportunity to network and to  learn more about the benefits of your membership with the Denver Jewish Chamber of Commerce.  You will also have the chance to meet other new members and Board members.\n\n\n\n\n\nINCLEMENT WEATHER POLICY:  IF DENVER PUBLIC SCHOOLS ARE CLOSED DUE TO WEATHER\, THIS EVENT IS CANCELED.  PLEASE CHECK LOCAL LISTINGS BEFORE ATTENDING.
X-ALT-DESC;FMTTYPE=text/html:Please join us for our quarterly New Member Orientation. You will have the opportunity to network and to&nbsp\; learn more about the benefits of your membership with the Denver Jewish Chamber of Commerce.&nbsp\; You will also have the chance to meet other new members and Board members.<br />\n<br />\n<br />\n<span style="color: rgb(68\, 68\, 68)\; font-family: Arial\, Helvetica\, sans-serif\; font-size: 14px\; font-weight: 700\;">INCLEMENT WEATHER POLICY:&nbsp\; IF DENVER PUBLIC SCHOOLS ARE CLOSED DUE TO WEATHER\, THIS EVENT IS CANCELED.&nbsp\; PLEASE CHECK LOCAL LISTINGS BEFORE ATTENDING.</span>
LOCATION:We are currently meeting virtually\, via Zoom.
UID:e.2146.2176
SEQUENCE:3
DTSTAMP:20260424T123136Z
URL:https://business.denverjewishchamber.com/events/details/new-member-orientation-2176
END:VEVENT

END:VCALENDAR
