BEGIN:VCALENDAR
VERSION:2.0
PRODID:-//ChamberMaster//Event Calendar 2.0//EN
METHOD:PUBLISH
X-PUBLISHED-TTL:P3D
REFRESH-INTERVAL:P3D
CALSCALE:GREGORIAN
BEGIN:VEVENT
DTSTART:20200804T233000Z
DTEND:20200805T013000Z
X-MICROSOFT-CDO-ALLDAYEVENT:FALSE
SUMMARY:New Member Orientation
DESCRIPTION:Join us for our New Member Orientation\n\n \n\nMeet other New DJCC Members!\n\n \n\nWe understand how intimidating it can be to join an organization and not know many people. This is our way of helping you meet other members in a more intimate setting.\n\n \n\nBesides establishing new relationships\, you will learn more about your benefits and how to maximize your DJCC membership.
X-ALT-DESC;FMTTYPE=text/html:<div style="color: rgb(255\, 255\, 255)\; font-family: Arial\, Verdana\, Helvetica\, sans-serif\; font-size: 14px\; text-align: center\; white-space: pre-wrap\; background-color: rgb(10\, 27\, 49)\;"><span style="font-size: 22px\; font-family: Georgia\, &quot\;Times New Roman&quot\;\, Times\, serif\;">Join us for our New Member Orientation</span></div>\n\n<div style="color: rgb(255\, 255\, 255)\; font-family: Arial\, Verdana\, Helvetica\, sans-serif\; font-size: 14px\; text-align: center\; white-space: pre-wrap\; background-color: rgb(10\, 27\, 49)\;">&nbsp\;</div>\n\n<div style="color: rgb(255\, 255\, 255)\; font-family: Arial\, Verdana\, Helvetica\, sans-serif\; font-size: 14px\; text-align: center\; white-space: pre-wrap\; background-color: rgb(10\, 27\, 49)\;"><span style="font-size: 22px\; font-family: Georgia\, &quot\;Times New Roman&quot\;\, Times\, serif\;">Meet other New DJCC Members!</span></div>\n\n<div style="color: rgb(255\, 255\, 255)\; font-family: Arial\, Verdana\, Helvetica\, sans-serif\; font-size: 14px\; text-align: center\; white-space: pre-wrap\; background-color: rgb(10\, 27\, 49)\;">&nbsp\;</div>\n\n<div style="color: rgb(255\, 255\, 255)\; font-family: Arial\, Verdana\, Helvetica\, sans-serif\; font-size: 14px\; text-align: center\; white-space: pre-wrap\; background-color: rgb(10\, 27\, 49)\;"><span style="font-size: 22px\; font-family: Georgia\, &quot\;Times New Roman&quot\;\, Times\, serif\;">We understand how intimidating it can be to join an organization and not know many people. This is our way of helping you meet other members in a more intimate setting.</span></div>\n\n<div style="color: rgb(255\, 255\, 255)\; font-family: Arial\, Verdana\, Helvetica\, sans-serif\; font-size: 14px\; text-align: center\; white-space: pre-wrap\; background-color: rgb(10\, 27\, 49)\;">&nbsp\;</div>\n\n<div style="color: rgb(255\, 255\, 255)\; font-family: Arial\, Verdana\, Helvetica\, sans-serif\; font-size: 14px\; text-align: center\; white-space: pre-wrap\; background-color: rgb(10\, 27\, 49)\;"><span style="font-size: 22px\; font-family: Georgia\, &quot\;Times New Roman&quot\;\, Times\, serif\;">Besides establishing new relationships\, you will learn more about your benefits and how to maximize your DJCC membership.&nbsp\;</span></div>\n
LOCATION:We will be meeting virtually\, via Zoom
UID:e.2146.2166
SEQUENCE:3
DTSTAMP:20260424T191408Z
URL:https://business.denverjewishchamber.com/events/details/new-member-orientation-2166
END:VEVENT

END:VCALENDAR
