BEGIN:VCALENDAR
VERSION:2.0
PRODID:-//ChamberMaster//Event Calendar 2.0//EN
METHOD:PUBLISH
X-PUBLISHED-TTL:P3D
REFRESH-INTERVAL:P3D
CALSCALE:GREGORIAN
BEGIN:VEVENT
DTSTART:20200505T233000Z
DTEND:20200506T013000Z
X-MICROSOFT-CDO-ALLDAYEVENT:FALSE
SUMMARY:New Member Orientation
DESCRIPTION:Join us for an evening of appetizers and drinks and the chance to meet other new members of  the Chamber.  You will have the opportunity to network and to  learn more about the benefits of your membership with the Denver Jewish Chamber of Commerce.\n\n\n\n\n\nINCLEMENT WEATHER POLICY:  IF DENVER PUBLIC SCHOOLS ARE CLOSED DUE TO WEATHER\, THIS EVENT IS CANCELED.  PLEASE CHECK LOCAL LISTINGS BEFORE ATTENDING.
X-ALT-DESC;FMTTYPE=text/html:Join us for an evening of appetizers and drinks and the chance to meet other new members of&nbsp\; the Chamber.&nbsp\; You will have the opportunity to network and to&nbsp\; learn more about the benefits of your membership with the Denver Jewish Chamber of Commerce.<br />\n<br />\n<br />\n<span style="color: rgb(68\, 68\, 68)\; font-family: Arial\, Helvetica\, sans-serif\; font-size: 14px\; font-weight: 700\;">INCLEMENT WEATHER POLICY:&nbsp\; IF DENVER PUBLIC SCHOOLS ARE CLOSED DUE TO WEATHER\, THIS EVENT IS CANCELED.&nbsp\; PLEASE CHECK LOCAL LISTINGS BEFORE ATTENDING.</span>
LOCATION:This is a virtual event for this month. For link and further information please email: sheila@denverjewishchamber.com
UID:e.2146.2165
SEQUENCE:3
DTSTAMP:20260424T221637Z
URL:https://business.denverjewishchamber.com/events/details/new-member-orientation-2165
END:VEVENT

END:VCALENDAR
