BEGIN:VCALENDAR
VERSION:2.0
PRODID:-//ChamberMaster//Event Calendar 2.0//EN
METHOD:PUBLISH
X-PUBLISHED-TTL:P3D
REFRESH-INTERVAL:P3D
CALSCALE:GREGORIAN
BEGIN:VEVENT
DTSTART:20191224T183000Z
DTEND:20191224T193000Z
X-MICROSOFT-CDO-ALLDAYEVENT:FALSE
SUMMARY:Networking Luncheon
DESCRIPTION:Since our monthly luncheon falls on Christmas Eve Day\, we are moving our lunch for this month only.  Lunch will be at Hoong's Palace. There will not be a formal program or speaker.  Come and join us for a fun lunch and schmooze and network.  Lunch will be ordered from the menu and each guest will pay the restaurant directly.\n\n\n\nNext month we will return to The Tavern DTC.\n\n\n\n\n\nINCLEMENT WEATHER POLICY:  IF DENVER PUBLIC SCHOOLS ARE CLOSED DUE TO WEATHER\, THIS EVENT IS CANCELED.  PLEASE CHECK LOCAL LISTINGS BEFORE ATTENDING.
X-ALT-DESC;FMTTYPE=text/html:Since our monthly luncheon falls on Christmas Eve Day\, we are moving our lunch for<strong> this month only</strong>.&nbsp\; Lunch will be at Hoong&#39\;s Palace.&nbsp\;There will not be a formal program or speaker.&nbsp\; Come and join us for a fun lunch and schmooze and network.&nbsp\; Lunch will be ordered from the menu and each guest will pay the restaurant directly.<br />\n<br />\nNext month we will return to The Tavern DTC.<br />\n<br />\n<br />\n<span style="box-sizing: border-box\; font-weight: bolder\; color: rgb(68\, 68\, 68)\; font-family: Arial\, Helvetica\, sans-serif\; font-size: 14px\;">INCLEMENT WEATHER POLICY:&nbsp\; IF DENVER PUBLIC SCHOOLS ARE CLOSED DUE TO WEATHER\, THIS EVENT IS CANCELED.&nbsp\; PLEASE CHECK LOCAL LISTINGS BEFORE ATTENDING.</span><br />\n<br />\n<br />\n<br />\n<br />\n<br />\n<br />\n<br />\n&nbsp\;
LOCATION:Hoong's Palace 10333 East Costilla Avenue Englewood\, CO 80111
UID:e.2146.1910
SEQUENCE:3
DTSTAMP:20260425T040337Z
URL:https://business.denverjewishchamber.com/events/details/networking-luncheon-12-24-2019-1910
END:VEVENT

END:VCALENDAR
