BEGIN:VCALENDAR
VERSION:2.0
PRODID:-//ChamberMaster//Event Calendar 2.0//EN
METHOD:PUBLISH
X-PUBLISHED-TTL:P3D
REFRESH-INTERVAL:P3D
CALSCALE:GREGORIAN
BEGIN:VEVENT
DTSTART:20201027T173000Z
DTEND:20201027T183000Z
X-MICROSOFT-CDO-ALLDAYEVENT:FALSE
SUMMARY:Networking Luncheon
DESCRIPTION:Are you looking to grow your business and generate leads?\n\n\n\nWe meet the 4th Tuesday of the month\, 11:30 am - 12:30 pm\n\n \n\nEach meeting will consist of the following:\n\n	Networking\n	Member introductions (30 second elevator speech)\n	Member presentations\n	Announcements\n	Additional networking\n\n\n\nINCLEMENT WEATHER POLICY:  IF DENVER PUBLIC SCHOOLS ARE CLOSED DUE TO WEATHER\, THIS EVENT IS CANCELED.  PLEASE CHECK LOCAL LISTINGS BEFORE ATTENDING.
X-ALT-DESC;FMTTYPE=text/html:<br />\n<span style="font-size:14px\;"><span style="font-family:arial\;">Are you looking to grow your business and generate leads?<br />\n<br />\nWe meet the 4th Tuesday of the month\, 11:30 am - 12:30 pm</span></span><br />\n&nbsp\;<br />\nEach meeting will consist of the following:\n<ul>\n	<li>Networking</li>\n	<li>Member introductions (30 second elevator speech)</li>\n	<li>Member presentations</li>\n	<li>Announcements</li>\n	<li>Additional networking</li>\n</ul>\n<br />\n<span style="box-sizing: border-box\; font-weight: bolder\; color: rgb(68\, 68\, 68)\; font-family: Arial\, Helvetica\, sans-serif\; font-size: 14px\;">INCLEMENT WEATHER POLICY:&nbsp\; IF DENVER PUBLIC SCHOOLS ARE CLOSED DUE TO WEATHER\, THIS EVENT IS CANCELED.&nbsp\; PLEASE CHECK LOCAL LISTINGS BEFORE ATTENDING.</span><br />\n<br />\n<br />\n<br />\n<br />\n<br />\n<br />\n<br />\n&nbsp\;
LOCATION:Via Zoom For Zoom link email sheila@denverjewishchamber.com
UID:e.2146.1920
SEQUENCE:3
DTSTAMP:20260424T141131Z
URL:https://business.denverjewishchamber.com/events/details/networking-luncheon-10-27-2020-1920
END:VEVENT

END:VCALENDAR
