BEGIN:VCALENDAR
VERSION:2.0
PRODID:-//ChamberMaster//Event Calendar 2.0//EN
METHOD:PUBLISH
X-PUBLISHED-TTL:P3D
REFRESH-INTERVAL:P3D
CALSCALE:GREGORIAN
BEGIN:VEVENT
DTSTART:20200825T173000Z
DTEND:20200825T183000Z
X-MICROSOFT-CDO-ALLDAYEVENT:FALSE
SUMMARY:Networking Luncheon
DESCRIPTION:Thank you for your continued strong attendance to the lunch and breakfast networking meetings!\n\n \n\nWhile these have been very successful\, we have received feedback that connecting in smaller groups would also be of value.\n\n \n\nFor this reason\, we will have a special format for this Networking Lunch.\n\n \n\nRather than individual commercials and a ten minute presentation\, we will divide everyone into small groups and let folks get to know each other better.\n\n \n\nIf you have not tried a lunch meeting yet\, this is a great chance to meet new chamber members.\n\n \n\nPlease join us for a new\, fun networking experience!
X-ALT-DESC;FMTTYPE=text/html:&nbsp\;\n<p class="x_MsoNormal" style="margin: 0in 0in 0.0001pt\; font-size: 11pt\; font-family: Calibri\, sans-serif\; color: rgb(32\, 31\, 30)\;">Thank you for your continued strong attendance to the lunch and breakfast networking meetings!</p>\n\n<p class="x_MsoNormal" style="margin: 0in 0in 0.0001pt\; font-size: 11pt\; font-family: Calibri\, sans-serif\; color: rgb(32\, 31\, 30)\;">&nbsp\;</p>\n\n<p class="x_MsoNormal" style="margin: 0in 0in 0.0001pt\; font-size: 11pt\; font-family: Calibri\, sans-serif\; color: rgb(32\, 31\, 30)\;">While these have been very successful\, we have received feedback that connecting in smaller groups would also be of value.</p>\n\n<p class="x_MsoNormal" style="margin: 0in 0in 0.0001pt\; font-size: 11pt\; font-family: Calibri\, sans-serif\; color: rgb(32\, 31\, 30)\;">&nbsp\;</p>\n\n<p class="x_MsoNormal" style="margin: 0in 0in 0.0001pt\; font-size: 11pt\; font-family: Calibri\, sans-serif\; color: rgb(32\, 31\, 30)\;">For this reason\, we will have a special format for this&nbsp\;Networking Lunch.</p>\n\n<p class="x_MsoNormal" style="margin: 0in 0in 0.0001pt\; font-size: 11pt\; font-family: Calibri\, sans-serif\; color: rgb(32\, 31\, 30)\;">&nbsp\;</p>\n\n<p class="x_MsoNormal" style="margin: 0in 0in 0.0001pt\; font-size: 11pt\; font-family: Calibri\, sans-serif\; color: rgb(32\, 31\, 30)\;">Rather than individual commercials and a ten minute presentation\, we will divide everyone into small groups and let folks get to know each other better.</p>\n\n<p class="x_MsoNormal" style="margin: 0in 0in 0.0001pt\; font-size: 11pt\; font-family: Calibri\, sans-serif\; color: rgb(32\, 31\, 30)\;">&nbsp\;</p>\n\n<p class="x_MsoNormal" style="margin: 0in 0in 0.0001pt\; font-size: 11pt\; font-family: Calibri\, sans-serif\; color: rgb(32\, 31\, 30)\;">If you have not tried a lunch meeting yet\, this is a great chance to meet new chamber members.</p>\n\n<p class="x_MsoNormal" style="margin: 0in 0in 0.0001pt\; font-size: 11pt\; font-family: Calibri\, sans-serif\; color: rgb(32\, 31\, 30)\;">&nbsp\;</p>\n\n<p class="x_MsoNormal" style="margin: 0in 0in 0.0001pt\; font-size: 11pt\; font-family: Calibri\, sans-serif\; color: rgb(32\, 31\, 30)\;">Please join us for a new\, fun networking experience!</p>\n\n<p class="x_MsoNormal" style="margin: 0in 0in 0.0001pt\; font-size: 11pt\; font-family: Calibri\, sans-serif\; color: rgb(32\, 31\, 30)\;">&nbsp\;</p>\n\n<p class="x_MsoNormal" style="margin: 0in 0in 0.0001pt\; font-size: 11pt\; font-family: Calibri\, sans-serif\; color: rgb(32\, 31\, 30)\;">&nbsp\;</p>\n
LOCATION:We continue to meet virtually\, via Zoom. The link goes out the Monday prior to the lunch. For more information and Zoom link email sheila@denverjewishchamber.com
UID:e.2146.1918
SEQUENCE:3
DTSTAMP:20260424T191203Z
URL:https://business.denverjewishchamber.com/events/details/networking-luncheon-08-25-2020-1918
END:VEVENT

END:VCALENDAR
