BEGIN:VCALENDAR
VERSION:2.0
PRODID:-//ChamberMaster//Event Calendar 2.0//EN
METHOD:PUBLISH
X-PUBLISHED-TTL:P3D
REFRESH-INTERVAL:P3D
CALSCALE:GREGORIAN
BEGIN:VEVENT
DTSTART:20190625T173000Z
DTEND:20190625T183000Z
X-MICROSOFT-CDO-ALLDAYEVENT:FALSE
SUMMARY:Networking Luncheon
DESCRIPTION:Are you looking to grow your business and generate leads?\n\n\n\nCome join the Denver Jewish Chamber of Commerce at our monthly networking luncheon at The Tavern - Tech Center.\n\n\n\nWe meet the 4th Tuesday of the month\, 11:30 am - 12:30 pm\n\n\n\nCost: $18.00 payable to the restaurant.\n\n\n\nPrice includes food\, beverage\, tax and tip.\n\nRSVP is not required.\n\nGluten free and vegetarian options are offered with the preset menu.\n\nCheck out the new menu here: Lunch Menu\n\n\n\n$7.00 for beverage only menu.
X-ALT-DESC;FMTTYPE=text/html:<br />\n<span style="font-size:14px\;"><span style="font-family:arial\;">Are you looking to grow your business and generate leads?<br />\n<br />\nCome join the Denver Jewish Chamber of Commerce at our monthly networking luncheon at The Tavern - Tech Center.<br />\n<br />\nWe meet the 4th Tuesday of the month\, 11:30 am - 12:30 pm<br />\n<br />\n<strong>Cost:</strong> <strong>$18.00</strong> payable to the restaurant.<br />\n<br />\nPrice includes food\, beverage\, tax and tip.<br />\nRSVP is not required.<br />\nGluten free and vegetarian options are offered with the preset menu.<br />\nCheck out the new menu here: <strong><a href="https://chambermaster.blob.core.windows.net/userfiles/UserFiles/chambers/2146/File/LunchMenuforDJCC-TheTavernRed.pdf">Lunch Menu</a></strong><br />\n<br />\n<strong>$7.00 </strong>for beverage only menu.</span></span><br />\n<br />\n<br />\n<br />\n<br />\n<br />\n<br />\n<br />\n<br />\n&nbsp\;
LOCATION:The Tavern - Tech Center 5336 DTC Blvd.\, Greenwood Village\, CO 80111
UID:e.2146.1904
SEQUENCE:3
DTSTAMP:20260425T111959Z
URL:https://business.denverjewishchamber.com/events/details/networking-luncheon-06-25-2019-1904
END:VEVENT

END:VCALENDAR
