BEGIN:VCALENDAR
VERSION:2.0
PRODID:-//ChamberMaster//Event Calendar 2.0//EN
METHOD:PUBLISH
X-PUBLISHED-TTL:P3D
REFRESH-INTERVAL:P3D
CALSCALE:GREGORIAN
BEGIN:VEVENT
DTSTART:20220524T173000Z
DTEND:20220524T183000Z
X-MICROSOFT-CDO-ALLDAYEVENT:FALSE
SUMMARY:Networking Luncheon
DESCRIPTION:Are you looking to grow your business and generate leads?\n\n\n\nCome join the Denver Jewish Chamber of Commerce at our monthly networking luncheon.\n\n\n\nWe meet the 4th Tuesday of the month\, 11:30 am - 12:30 pm\n\n \n\nEach meeting will consist of the following:\n\n	Networking\n	Member introductions (30 second elevator speech)\n	Member presentations\n	Announcements\n	Additional networking
X-ALT-DESC;FMTTYPE=text/html:<br />\n<span style="font-size:14px\;"><span style="font-family:arial\;">Are you looking to grow your business and generate leads?<br />\n<br />\nCome join the Denver Jewish Chamber of Commerce at our monthly networking luncheon.<br />\n<br />\nWe meet the 4th Tuesday of the month\, 11:30 am - 12:30 pm</span></span><br />\n&nbsp\;<br />\nEach meeting will consist of the following:\n<ul>\n	<li>Networking</li>\n	<li>Member introductions (30 second elevator speech)</li>\n	<li>Member presentations</li>\n	<li>Announcements</li>\n	<li>Additional networking</li>\n</ul>\n<br />\n<br />\n<br />\n<br />\n&nbsp\;
LOCATION:Holiday Inn & Suites Denver Tech Center- Centennial 6638 S. Nome Street Centennial\, CO 80111
UID:e.2146.1939
SEQUENCE:3
DTSTAMP:20260423T053412Z
URL:https://business.denverjewishchamber.com/events/details/networking-luncheon-05-24-2022-1939
END:VEVENT

END:VCALENDAR
