BEGIN:VCALENDAR
VERSION:2.0
PRODID:-//ChamberMaster//Event Calendar 2.0//EN
METHOD:PUBLISH
X-PUBLISHED-TTL:P3D
REFRESH-INTERVAL:P3D
CALSCALE:GREGORIAN
BEGIN:VEVENT
DTSTART:20200324T173000Z
DTEND:20200324T183000Z
X-MICROSOFT-CDO-ALLDAYEVENT:FALSE
SUMMARY:Networking Luncheon
DESCRIPTION:THE BREAKFAST HAS BEEN CANCELLED DUE TO RECOMMENDATIONS REGARDING COVID- 19.  WE WILL RESUME OUR NETWORKING EVENTS WHEN GUIDELINES AND RECOMMENDATIONS FOR SOCIAL DISTANCING HAVE BEEN REVOKED.\n\n\n\nAre you looking to grow your business and generate leads?\n\n\n\nCome join the Denver Jewish Chamber of Commerce at our monthly networking luncheon at The Holiday Inn Denver Tech Center-Centennial.\n\n\n\nWe meet the 4th Tuesday of the month\, 11:30 am - 12:30 pm\n\n\n\nCost: $18.00 payable to the restaurant.\n\n\n\nPrice includes food\, beverage\, tax and tip.\n\nRSVP is not required.\n\nGluten free and vegetarian options are offered with the preset menu.\n\n\n\n$7.00 for beverage only menu.\n\n\n\n\n\nINCLEMENT WEATHER POLICY:  IF DENVER PUBLIC SCHOOLS ARE CLOSED DUE TO WEATHER\, THIS EVENT IS CANCELED.  PLEASE CHECK LOCAL LISTINGS BEFORE ATTENDING.
X-ALT-DESC;FMTTYPE=text/html:<strong style="font-size: 28px\;">THE BREAKFAST HAS BEEN CANCELLED DUE TO RECOMMENDATIONS REGARDING COVID- 19.&nbsp\; WE WILL RESUME OUR NETWORKING EVENTS WHEN GUIDELINES AND RECOMMENDATIONS FOR SOCIAL DISTANCING HAVE BEEN REVOKED.</strong><br />\n<br />\n<span style="font-size:14px\;"><span style="font-family:arial\;">Are you looking to grow your business and generate leads?<br />\n<br />\nCome join the Denver Jewish Chamber of Commerce at our monthly networking luncheon at The Holiday Inn Denver Tech Center-Centennial.<br />\n<br />\nWe meet the 4th Tuesday of the month\, 11:30 am - 12:30 pm<br />\n<br />\n<strong>Cost:</strong> <strong>$18.00</strong> payable to the restaurant.<br />\n<br />\nPrice includes food\, beverage\, tax and tip.<br />\nRSVP is not required.<br />\nGluten free and vegetarian options are offered with the preset menu.<br />\n<br />\n<strong>$7.00 </strong>for beverage only menu.</span></span><br />\n<br />\n<br />\n<span style="box-sizing: border-box\; font-weight: bolder\; color: rgb(68\, 68\, 68)\; font-family: Arial\, Helvetica\, sans-serif\; font-size: 14px\;">INCLEMENT WEATHER POLICY:&nbsp\; IF DENVER PUBLIC SCHOOLS ARE CLOSED DUE TO WEATHER\, THIS EVENT IS CANCELED.&nbsp\; PLEASE CHECK LOCAL LISTINGS BEFORE ATTENDING.</span><br />\n<br />\n<br />\n<br />\n<br />\n<br />\n<br />\n<br />\n&nbsp\;
LOCATION:Holiday Inn Denver Tech Center-Centennial 6638 S Nome St\, Centennial\, CO 80111
UID:e.2146.1913
SEQUENCE:3
DTSTAMP:20260425T002314Z
URL:https://business.denverjewishchamber.com/events/details/networking-luncheon-03-24-2020-1913
END:VEVENT

END:VCALENDAR
