BEGIN:VCALENDAR
VERSION:2.0
PRODID:-//ChamberMaster//Event Calendar 2.0//EN
METHOD:PUBLISH
X-PUBLISHED-TTL:P3D
REFRESH-INTERVAL:P3D
CALSCALE:GREGORIAN
BEGIN:VEVENT
DTSTART;VALUE=DATE:20200109
DTEND;VALUE=DATE:20200110
TRANSP:TRANSPARENT
X-MICROSOFT-CDO-ALLDAYEVENT:TRUE
SUMMARY:Networking Happy Hour at Topgolf
DESCRIPTION:Please join us at Topgolf for a fun networking happy hour. This is a great opportunity to expand your Chamber relationships\, make some new business connections\, and meet new people. This event is back by popular demand!\n\n\n\nAppetizers are included in the price as well as the opportunity to play some golf.  Join us for a fun night of golf\, food\, and networking.
X-ALT-DESC;FMTTYPE=text/html:Please join us at Topgolf for a fun networking happy hour. This is a great opportunity to expand your Chamber relationships\, make some new business connections\, and meet new people. This event is back by popular demand!<br />\n<br />\nAppetizers are included in the price as well as the opportunity to play some golf.&nbsp\; Join us for a fun night of golf\, food\, and networking.
LOCATION:Top Golf 10601 East Easter Avenue Centennial\, CO 80112
UID:e.2146.2168
SEQUENCE:3
DTSTAMP:20260425T024951Z
URL:https://business.denverjewishchamber.com/events/details/networking-happy-hour-at-topgolf-2168
END:VEVENT

END:VCALENDAR
