BEGIN:VCALENDAR
VERSION:2.0
PRODID:-//ChamberMaster//Event Calendar 2.0//EN
METHOD:PUBLISH
X-PUBLISHED-TTL:P3D
REFRESH-INTERVAL:P3D
CALSCALE:GREGORIAN
BEGIN:VEVENT
DTSTART:20181109T003000Z
DTEND:20181109T023000Z
X-MICROSOFT-CDO-ALLDAYEVENT:FALSE
SUMMARY:Networking Happy Hour
DESCRIPTION:Please join us at the Tiki Bar at Max Gill & Grill for our monthly networking happy hour\; this is a great opportunity to expand your Chamber relationships\, make some new business connections\, and meet some new people. \n\n\n\nAppetizers and a ticket good for one drink are included in the price. Happy hour prices are offered from 3-6:30pm. A full menu will also be available for individual purchase. We look forward to seeing you all!\n\n\n\nDO NOT WAIT TO SIGN UP! \n\nPre-registration: Members: $12.00 Non-members: $15.00  \n\nAt the door: Members: $15.00\, Non-members: $18.00  \n\nOnline pre-registration ends 11/7\n\n\n\nParking: Free valet parking from 5-10pm and free street parking
X-ALT-DESC;FMTTYPE=text/html:<span style="font-size:14px\;"><span style="font-family:arial\;">Please join us at the Tiki Bar at Max Gill &amp\; Grill for our monthly networking happy hour\; this is a great&nbsp\;opportunity to expand your&nbsp\;Chamber&nbsp\;relationships\, make some new business connections\, and meet some new people.&nbsp\;<br />\n<br />\nAppetizers and a ticket good for one drink are included in the price. Happy hour prices are offered from 3-6:30pm. A full menu will also be available for individual purchase. We look forward to seeing you all!<br />\n<br />\n<strong>DO NOT WAIT TO SIGN UP!&nbsp\;</strong><br />\n<strong>Pre-registration: Members:</strong> $12.00 <strong>Non-members:</strong> $15.00 &nbsp\;<br />\n<strong>At the door: Members:</strong> $15.00\, <strong>Non-members:</strong> $18.00 &nbsp\;<br />\n<em>Online pre-registration ends 11/7</em><br />\n<br />\nParking: Free valet parking from 5-10pm and&nbsp\;free&nbsp\;street parking</span></span>
LOCATION:Max Gill and Grill 1052 S. Gaylord Street Denver\, CO
UID:e.2146.1776
SEQUENCE:3
DTSTAMP:20260425T200747Z
URL:https://business.denverjewishchamber.com/events/details/networking-happy-hour-11-08-2018-1776
END:VEVENT

END:VCALENDAR
