BEGIN:VCALENDAR
VERSION:2.0
PRODID:-//ChamberMaster//Event Calendar 2.0//EN
METHOD:PUBLISH
X-PUBLISHED-TTL:P3D
REFRESH-INTERVAL:P3D
CALSCALE:GREGORIAN
BEGIN:VEVENT
DTSTART:20180712T233000Z
DTEND:20180713T013000Z
X-MICROSOFT-CDO-ALLDAYEVENT:FALSE
SUMMARY:Networking Happy Hour
DESCRIPTION:Network & mingle at Happy Hour with the DJCC!  \n\n\n\nJoin us as we enjoy a Summer evening\; this is a great opportunity to expand your Chamber relationships.\n\n\n\nThere will a wide range of appetizers provided and the bar is right there. We will be on the patio\, weather permitting.\n\n\n\nYou will also have an opportunity to network with like-minded professionals\, so bring your business cards.\n\n\n\nDO NOT WAIT TO SIGN UP!  Save $10 by pre-registering online on or before July 11.\n\n\n\nPre-registration: Members: only $5\; Non-members: $5\n\n\n\nPay at the door: Members: $15\; Non-members: $18
X-ALT-DESC;FMTTYPE=text/html:<span style="font-size:14px\;"><span style="font-family:arial\;"><strong>Network &amp\; mingle at Happy Hour with the DJCC! &nbsp\;</strong><br />\n<br />\nJoin us as we enjoy a Summer evening\; this is a great <strong>opportunity to expand your</strong> Chamber <strong>relationships.</strong><br />\n<br />\nThere will a wide range of appetizers provided and the bar is right there. We will be on the patio\, weather permitting.<br />\n<br />\nYou will also have an <strong>opportunity to network</strong> with like-minded professionals\, so bring your business cards.<br />\n<br />\n<strong>DO NOT WAIT TO SIGN UP!&nbsp\;</strong> <span style="color:#FF0000\;"><strong>Save $10</strong></span> by <u><strong>pre-registering online</strong></u> on or before July 11.<br />\n<br />\n<strong>Pre-registration: Members:</strong> only $5\; <strong>Non-members:</strong> $5<br />\n<br />\n<strong>Pay at the door: Members:</strong> $15\; <strong>Non-members: </strong>$18</span></span><br />\n<br />\n&nbsp\;
LOCATION:Lila B Lounge 5345 Landmark Place Greenwood Village\, CO 80111
UID:e.2146.1772
SEQUENCE:3
DTSTAMP:20260426T003907Z
URL:https://business.denverjewishchamber.com/events/details/networking-happy-hour-07-12-2018-1772
END:VEVENT

END:VCALENDAR
