BEGIN:VCALENDAR
VERSION:2.0
PRODID:-//ChamberMaster//Event Calendar 2.0//EN
METHOD:PUBLISH
X-PUBLISHED-TTL:P3D
REFRESH-INTERVAL:P3D
CALSCALE:GREGORIAN
BEGIN:VEVENT
DTSTART:20190509T233000Z
DTEND:20190510T013000Z
X-MICROSOFT-CDO-ALLDAYEVENT:FALSE
SUMMARY:Networking Happy Hour
DESCRIPTION:Happy Hour Networking & Membership Drive  \n\n\n\nCome join us for our Networking Happy Hour and Membership Drive. This event is FREE for all non-members and for members who bring a guest!   \n\n\n\nThis event is a chance to introduce people to the Denver Jewish Chamber of Commerce. Come and make some new connections and see what the Denver Jewish Chamber of Commerce is all about.  \n\n\n\nThis event is FREE to members who bring a guest\n\nFREE to all non-members.\n\n$10 for members who do not bring a guest.\n\nPlease register online by May 8 so we can plan for food.  \n\n\n\nFood courtesy of Shapiro Family Chiropractic and Lymone Catering.  \n\n\n\nWe look forward to seeing you there and don't forget to bring your business cards!
X-ALT-DESC;FMTTYPE=text/html:<br />\n<span style="font-size:14px\;"><span style="font-family:arial\;"><strong>Happy Hour Networking &amp\; Membership Drive &nbsp\;</strong><br />\n<br />\nCome join us for our Networking Happy Hour and Membership Drive.&nbsp\;This event is <strong>FREE</strong> for all non-members and for members who bring a guest!&nbsp\; &nbsp\;<br />\n<br />\nThis event is a chance to introduce people to the Denver Jewish Chamber of Commerce.&nbsp\;Come and make some new connections and see what the Denver Jewish Chamber of Commerce is all about. &nbsp\;<br />\n<br />\n<span style="color:#FF0000\;"><strong>This event is FREE to members who bring a guest</strong></span><br />\n<strong>FREE to all non-members.</strong><br />\n<strong>$10 </strong><u>for members who do not bring a guest.</u><br />\n<em>Please register online by May&nbsp\;8 so we can plan for food. &nbsp\;</em><br />\n<br />\nFood courtesy of Shapiro Family Chiropractic and Lymone Catering. &nbsp\;<br />\n<br />\nWe look forward to seeing you there and don&#39\;t forget to bring your business cards!</span></span><br />\n<br />\n&nbsp\;
LOCATION:Shapiro Family Chiropractic 2121 S. Oneida St.\, Unit 420 Denver\, CO 80224
UID:e.2146.1782
SEQUENCE:3
DTSTAMP:20260425T122441Z
URL:https://business.denverjewishchamber.com/events/details/networking-happy-hour-05-09-2019-1782
END:VEVENT

END:VCALENDAR
