BEGIN:VCALENDAR
VERSION:2.0
PRODID:-//ChamberMaster//Event Calendar 2.0//EN
METHOD:PUBLISH
X-PUBLISHED-TTL:P3D
REFRESH-INTERVAL:P3D
CALSCALE:GREGORIAN
BEGIN:VEVENT
DTSTART:20190411T233000Z
DTEND:20190412T013000Z
X-MICROSOFT-CDO-ALLDAYEVENT:FALSE
SUMMARY:Networking Happy Hour
DESCRIPTION:Please join us at Zane's Italian Bistro for our monthly networking happy hour\; this is a great opportunity to expand your Chamber relationships\, make some new business connections\, and meet new people.\n\n\n\nHeavy appetizers are included in the price. Happy hour prices are offered for drinks and food. We look forward to seeing you there!
X-ALT-DESC;FMTTYPE=text/html:Please join us at Zane&#39\;s Italian Bistro for our monthly networking happy hour\; this is a great opportunity to expand your Chamber relationships\, make some new business connections\, and meet new people.<br />\n<br />\nHeavy appetizers are included in the price. Happy hour prices are offered for drinks and food. We look forward to seeing you there!<br />\n<br />\n&nbsp\;
LOCATION:Zane's Italian Bistro 8101 East Belleview Avenue Denver\, CO 80237
UID:e.2146.1781
SEQUENCE:3
DTSTAMP:20260425T133542Z
URL:https://business.denverjewishchamber.com/events/details/networking-happy-hour-04-11-2019-1781
END:VEVENT

END:VCALENDAR
