BEGIN:VCALENDAR
VERSION:2.0
PRODID:-//ChamberMaster//Event Calendar 2.0//EN
METHOD:PUBLISH
X-PUBLISHED-TTL:P3D
REFRESH-INTERVAL:P3D
CALSCALE:GREGORIAN
BEGIN:VEVENT
DTSTART:20190111T003000Z
DTEND:20190111T023000Z
X-MICROSOFT-CDO-ALLDAYEVENT:FALSE
SUMMARY:Networking Happy Hour
DESCRIPTION:Please join us at Winston's Pub and Grill for our monthly networking happy hour\; this is a great opportunity to expand your Chamber relationships\, make some new business connections\, and meet some new people.\n\n\n\nCost:\n\nPre-registration: Members: $12.00\, Non-members: $14.00\n\nAt the door: Members: $14.00\, Non-members: $16.00\n\nOnline pre-registration ends 1/9/19
X-ALT-DESC;FMTTYPE=text/html:<span style="font-size:14px\;"><span style="font-family:arial\;">Please join us at Winston&#39\;s Pub and Grill&nbsp\;for our monthly networking happy hour\; this is a great&nbsp\;opportunity to expand your&nbsp\;Chamber&nbsp\;relationships\, make some new business connections\, and meet some new people.<br />\n<br />\n<strong>Cost:</strong><br />\n<strong>Pre-registration: Members:</strong> $12.00\, <strong>Non-members:</strong> $14.00<br />\n<strong>At the door: Members: </strong>$14.00\, <strong>Non-members:</strong> $16.00<br />\n<em>Online pre-registration ends 1/9/19</em></span></span><br />\n<br />\n&nbsp\;
LOCATION:Winston's Pub and Grill 8101 E Belleview Ave\, Denver\, CO 80237 (In the Marina Square Shopping Center)
UID:e.2146.1778
SEQUENCE:3
DTSTAMP:20260425T173404Z
URL:https://business.denverjewishchamber.com/events/details/networking-happy-hour-01-10-2019-1778
END:VEVENT

END:VCALENDAR
