BEGIN:VCALENDAR
VERSION:2.0
PRODID:-//ChamberMaster//Event Calendar 2.0//EN
METHOD:PUBLISH
X-PUBLISHED-TTL:P3D
REFRESH-INTERVAL:P3D
CALSCALE:GREGORIAN
BEGIN:VEVENT
DTSTART:20200426T170000Z
DTEND:20200426T190000Z
X-MICROSOFT-CDO-ALLDAYEVENT:FALSE
SUMMARY:Mitzvah Day at Jewish Family Services
DESCRIPTION:THIS EVENT HAS BEEN CANCELLED.   IT WILL BE RESCHEDULED ONCE IT IS SAFE TO DO SO.\n\n\n\n\n\nThe Harry and Jeanette Weinberg Food Pantry at Jewish Family Service assists individuals and families facing hunger and food insecurity\, serving as many as 1\,400 people each month. Join Denver Jewish Chamber of Commerce in a meaningful pantry volunteer opportunity. We are seeking 15 volunteers to assist with sorting and organization in support of the pantry's yearly distribution of 400\,000+ pounds of food.  Please wear comfortable clothing and closed-toe shoes.
X-ALT-DESC;FMTTYPE=text/html:<span style="color: rgb(32\, 31\, 30)\; font-family: Calibri\, sans-serif\; font-size: 14.6667px\;"><strong><span style="font-size:22px\;">THIS EVENT HAS BEEN CANCELLED.&nbsp\; &nbsp\;IT WILL BE RESCHEDULED ONCE IT IS SAFE TO DO SO.</span></strong><br />\n<br />\n<br />\nThe Harry and Jeanette Weinberg Food Pantry at Jewish Family Service assists individuals and families facing hunger and food insecurity\, serving as many as 1\,400 people each month. Join Denver Jewish Chamber of Commerce in a meaningful pantry volunteer opportunity. We are seeking 15 volunteers to assist with sorting and organization in support of the pantry&rsquo\;s yearly distribution of 400\,000+ pounds of food.&nbsp\; Please wear comfortable clothing and closed-toe shoes.&nbsp\;</span>
LOCATION:3201 S. Tamarac Drive\, Denver
UID:e.2146.2169
SEQUENCE:3
DTSTAMP:20260424T231804Z
URL:https://business.denverjewishchamber.com/events/details/mitzvah-day-at-jewish-family-services-2169
END:VEVENT

END:VCALENDAR
