BEGIN:VCALENDAR
VERSION:2.0
PRODID:-//ChamberMaster//Event Calendar 2.0//EN
METHOD:PUBLISH
X-PUBLISHED-TTL:P3D
REFRESH-INTERVAL:P3D
CALSCALE:GREGORIAN
BEGIN:VEVENT
DTSTART:20200911T010000Z
DTEND:20200911T023000Z
X-MICROSOFT-CDO-ALLDAYEVENT:FALSE
SUMMARY:Kabbalah Experience Class
DESCRIPTION:Kabbalah Experience is offering a free class for all  Denver Jewish Chamber of Commerce members.  Explore the Kabbalistic Tree of Life/ Sefirot as a tool for understanding what this is\, and how you might use it as a tool to manifest change in the year ahead.\n\n \n\nThis 90-minute class will give you an opportunity to learn some key language and concepts\, and put pen to paper in creating your own vision.\n\n \n\nBio: https://kabbalahexperience.com/our-mission/our-teachers/
X-ALT-DESC;FMTTYPE=text/html:<div style="margin: 0px\; padding: 0px\; border: 0px\; font-variant-numeric: inherit\; font-variant-east-asian: inherit\; font-stretch: inherit\; font-size: 12pt\; line-height: inherit\; font-family: Calibri\, Arial\, Helvetica\, sans-serif\; vertical-align: baseline\; color: rgb(0\, 0\, 0)\;"><span style="margin: 0px\; padding: 0px\; border: 0px\; font-style: inherit\; font-variant: inherit\; font-weight: inherit\; font-stretch: inherit\; font-size: inherit\; line-height: inherit\; vertical-align: baseline\; color: inherit\;">Kabbalah Experience is offering a free class for all&nbsp\; Denver Jewish Chamber of Commerce members.&nbsp\; Explore the Kabbalistic Tree of Life/ Sefirot as a tool for understanding what this is\, and how you might use it as a tool to manifest change in the year ahead.</span></div>\n\n<div style="margin: 0px\; padding: 0px\; border: 0px\; font-variant-numeric: inherit\; font-variant-east-asian: inherit\; font-stretch: inherit\; font-size: 12pt\; line-height: inherit\; font-family: Calibri\, Arial\, Helvetica\, sans-serif\; vertical-align: baseline\; color: rgb(0\, 0\, 0)\;">&nbsp\;</div>\n\n<div style="margin: 0px\; padding: 0px\; border: 0px\; font-variant-numeric: inherit\; font-variant-east-asian: inherit\; font-stretch: inherit\; font-size: 12pt\; line-height: inherit\; font-family: Calibri\, Arial\, Helvetica\, sans-serif\; vertical-align: baseline\; color: rgb(0\, 0\, 0)\;"><span style="margin: 0px\; padding: 0px\; border: 0px\; font-style: inherit\; font-variant: inherit\; font-weight: inherit\; font-stretch: inherit\; font-size: inherit\; line-height: inherit\; vertical-align: baseline\; color: inherit\;">This 90-minute class will give you an opportunity to learn some key language and concepts\, and put pen to paper in creating your own vision.</span></div>\n\n<div style="margin: 0px\; padding: 0px\; border: 0px\; font-variant-numeric: inherit\; font-variant-east-asian: inherit\; font-stretch: inherit\; font-size: 12pt\; line-height: inherit\; font-family: Calibri\, Arial\, Helvetica\, sans-serif\; vertical-align: baseline\; color: rgb(0\, 0\, 0)\;">&nbsp\;</div>\n\n<div style="margin: 0px\; padding: 0px\; border: 0px\; font-variant-numeric: inherit\; font-variant-east-asian: inherit\; font-stretch: inherit\; font-size: 12pt\; line-height: inherit\; font-family: Calibri\, Arial\, Helvetica\, sans-serif\; vertical-align: baseline\; color: rgb(0\, 0\, 0)\;"><span style="margin: 0px\; padding: 0px\; border: 0px\; font-style: inherit\; font-variant: inherit\; font-weight: inherit\; font-stretch: inherit\; font-size: inherit\; line-height: inherit\; vertical-align: baseline\; color: inherit\;">Bio:&nbsp\;<a data-auth="NotApplicable" href="https://kabbalahexperience.com/our-mission/our-teachers/" id="LPNoLPOWALinkPreview_0" rel="noopener noreferrer" style="margin: 0px\; padding: 0px\; border: 0px\; font: inherit\; vertical-align: baseline\;" target="_blank">https://kabbalahexperience.com/our-mission/our-teachers/</a></span></div>\n&nbsp\;\n\n<div style="margin: 0px\; padding: 0px\; border: 0px\; font-variant-numeric: inherit\; font-variant-east-asian: inherit\; font-stretch: inherit\; font-size: 12pt\; line-height: inherit\; font-family: Calibri\, Arial\, Helvetica\, sans-serif\; vertical-align: baseline\; color: rgb(0\, 0\, 0)\;">&nbsp\;</div>\n
LOCATION:Virtual - Via Zoom
UID:e.2146.2177
SEQUENCE:3
DTSTAMP:20260424T155108Z
URL:https://business.denverjewishchamber.com/events/details/kabbalah-experience-class-2177
END:VEVENT

END:VCALENDAR
