BEGIN:VCALENDAR
VERSION:2.0
PRODID:-//ChamberMaster//Event Calendar 2.0//EN
METHOD:PUBLISH
X-PUBLISHED-TTL:P3D
REFRESH-INTERVAL:P3D
CALSCALE:GREGORIAN
BEGIN:VEVENT
DTSTART:20201008T180000Z
DTEND:20201008T190000Z
X-MICROSOFT-CDO-ALLDAYEVENT:FALSE
SUMMARY:Joint Networking Event With Colorado LGBTQ Chamber of Commerce
DESCRIPTION:Join us for an informative meet and greet and networking opportunity.  Learn about each organization's history\, goals and purpose.  You will hear from leaders of each chamber and have an opportunity to network across organizations.\n\n\n\nEach attendee who chooses to join as a member of the partnership organization will receive 10 % off the membership level they choose.
X-ALT-DESC;FMTTYPE=text/html:Join us for an informative meet and greet and networking opportunity.&nbsp\; Learn about each organization&#39\;s history\, goals and purpose.&nbsp\; You will hear from leaders of each chamber and have an opportunity to network across organizations.<br />\n<br />\nEach attendee who chooses to join as a member of the partnership organization will receive 10 % off the membership level they choose.
LOCATION:Meeting Via Zoom.
UID:e.2146.2179
SEQUENCE:3
DTSTAMP:20260424T141812Z
URL:https://business.denverjewishchamber.com/events/details/joint-networking-event-with-colorado-lgbtq-chamber-of-commerce-2179
END:VEVENT

END:VCALENDAR
