BEGIN:VCALENDAR
VERSION:2.0
PRODID:-//ChamberMaster//Event Calendar 2.0//EN
METHOD:PUBLISH
X-PUBLISHED-TTL:P3D
REFRESH-INTERVAL:P3D
CALSCALE:GREGORIAN
BEGIN:VEVENT
DTSTART:20200312T020000Z
DTEND:20200312T050000Z
X-MICROSOFT-CDO-ALLDAYEVENT:FALSE
SUMMARY:Jewish Heritage Night at the Avalanche
DESCRIPTION:The Colorado Avalanche and the Denver Jewish Chamber of Commerce are excited to present Jewish Heritage Night at The Avalanche vs. New York Rangers game on March 11\, 2020! It will be a fun night of hockey\, community and Jewish pride. Please join us in filling as many seats as possible.  Game starts at 8:00 PM.\n\n\n\nPurchase your tickets here:\n\nhttps://groupmatics.events/event/Denverjewish
X-ALT-DESC;FMTTYPE=text/html:<span style="color: rgb(0\, 0\, 0)\; font-family: &quot\;Times New Roman&quot\;\, serif\; font-size: 16px\;">The Colorado Avalanche and the Denver Jewish Chamber of Commerce are excited to present Jewish Heritage Night at The Avalanche vs. New York Rangers game on March 11\, 2020!&nbsp\;It will be a fun night of hockey\, community and Jewish pride.&nbsp\;Please join us in filling as many seats as possible.&nbsp\; Game starts at 8:00 PM.</span><br />\n<br />\nPurchase your tickets here:<br />\n<a data-auth="NotApplicable" href="https://groupmatics.events/event/Denverjewish" rel="noopener noreferrer" style="margin: 0px\; padding: 0px\; border: 0px\; font-variant-numeric: inherit\; font-variant-east-asian: inherit\; font-stretch: inherit\; font-size: 16px\; line-height: inherit\; font-family: &quot\;Times New Roman&quot\;\, serif\; vertical-align: baseline\;" target="_blank">https://groupmatics.events/event/Denverjewish</a>
LOCATION:Pepsi Center 1000 Chopper Cir\, Denver\, CO 80204
UID:e.2146.2171
SEQUENCE:3
DTSTAMP:20260425T002750Z
URL:https://business.denverjewishchamber.com/events/details/jewish-heritage-night-at-the-avalanche-2171
END:VEVENT

END:VCALENDAR
