BEGIN:VCALENDAR
VERSION:2.0
PRODID:-//ChamberMaster//Event Calendar 2.0//EN
METHOD:PUBLISH
X-PUBLISHED-TTL:P3D
REFRESH-INTERVAL:P3D
CALSCALE:GREGORIAN
BEGIN:VEVENT
DTSTART:20180809T233000Z
DTEND:20180810T013000Z
X-MICROSOFT-CDO-ALLDAYEVENT:FALSE
SUMMARY:Happy Hour Networking
DESCRIPTION:Beat the heat with other professionals at one of our favorite happy hour spots! Make new connections\, reconnect with those you have met in the past\, and learn how to help each other achieve goals.\n\n\n\nAppetizers will be served and drinks are available for purchase. Their happy hour is from 3-7pm. We will meet on the side patio.\n\n\n\nRSVP by August 8 to Save Money!\n\nPre-registration: Members: $15.00\, Non-members: $20.00\n\nDay of event: Members: $20.00\, Non-members: $25.00\n\n\n\nThis is a networking event so bring business cards!\n\n\n\nThe Tavern Lowry offers an upscale tavern cuisine featuring traditional and eclectic menu items as well as healthy and gluten-free options. Free parking available for all Tavern guests.
X-ALT-DESC;FMTTYPE=text/html:<span style="font-size:14px\;"><span style="font-family:arial\;">Beat the heat with other professionals at one of our favorite happy hour spots! Make new connections\, reconnect with those you have met in the past\, and learn how to help each other achieve goals.<br />\n<br />\nAppetizers will be served and drinks are available for purchase. Their happy hour is from 3-7pm. We will meet on the side patio.<br />\n<br />\n<strong>RSVP by August 8 to Save Money!</strong><br />\n<strong>Pre-registration: Members:</strong> $15.00<strong>\, Non-members: </strong>$20.00<br />\n<strong>Day of event: Members:</strong> $20.00\, <strong>Non-members: </strong>$25.00<br />\n<br />\nThis is a networking event so bring business cards!<br />\n<br />\nThe Tavern Lowry offers an upscale tavern cuisine featuring traditional and eclectic menu items as well as healthy and gluten-free options. Free parking available for all Tavern guests.</span></span><br />\n<br />\n&nbsp\;
LOCATION:The Tavern Lowry 7401 E. 1st Ave. Denver\, CO 80230
UID:e.2146.1773
SEQUENCE:3
DTSTAMP:20260425T234728Z
URL:https://business.denverjewishchamber.com/events/details/happy-hour-networking-1773
END:VEVENT

END:VCALENDAR
