BEGIN:VCALENDAR
VERSION:2.0
PRODID:-//ChamberMaster//Event Calendar 2.0//EN
METHOD:PUBLISH
X-PUBLISHED-TTL:P3D
REFRESH-INTERVAL:P3D
CALSCALE:GREGORIAN
BEGIN:VEVENT
DTSTART:20191213T003000Z
DTEND:20191213T023000Z
X-MICROSOFT-CDO-ALLDAYEVENT:FALSE
SUMMARY:Evening Networking Event
DESCRIPTION:Please join us for a fun and festive Hanukkah themed networking event.  We have a special game of dreidel to help you break the ice and make some new connections. Registration price includes:\n\n	Choice of beer or wine \n	Mini latkes \n	Bagel balls \n	Sufganiyot and other Chanukah treats \n\n.\n\n\n\nCost:\n\nPre-registration: Members: $15\, Non Members: $18\n\nAt the door:  Members: $18\, Non Members: $25\n\nOnline advanced registration ends 12/11 at midnight
X-ALT-DESC;FMTTYPE=text/html:<span style="font-family: arial\; font-size: 14px\;">Please join us for a fun and festive Hanukkah themed networking event.&nbsp\; We have a special game of dreidel to help you break the ice and make some new connections. Registration price includes:</span>\n<ul style="color: rgb(32\, 31\, 30)\; font-family: &quot\;Segoe UI&quot\;\, &quot\;Segoe UI Web (West European)&quot\;\, &quot\;Segoe UI&quot\;\, -apple-system\, BlinkMacSystemFont\, Roboto\, &quot\;Helvetica Neue&quot\;\, sans-serif\; font-size: 15px\;">\n	<li><span style="font-size:14px\;"><span style="font-family:arial\;">Choice of beer or wine&nbsp\;</span></span></li>\n	<li><span style="font-size:14px\;"><span style="font-family:arial\;">Mini latkes&nbsp\;</span></span></li>\n	<li><span style="font-size:14px\;"><span style="font-family:arial\;">Bagel balls&nbsp\;</span></span></li>\n	<li><span style="font-size:14px\;"><span style="font-family:arial\;">Sufganiyot and other Chanukah treats&nbsp\;</span></span></li>\n</ul>\n<span style="font-family: arial\; font-size: 14px\;">.</span><br style="font-family: arial\; font-size: 14px\;" />\n<br style="font-family: arial\; font-size: 14px\;" />\n<strong style="font-family: arial\; font-size: 14px\;">Cost:<br />\nPre-registration: Members:&nbsp\;</strong><span style="font-family: arial\; font-size: 14px\;">$15\,&nbsp\;</span><strong style="font-family: arial\; font-size: 14px\;">Non Members:&nbsp\;</strong><span style="font-family: arial\; font-size: 14px\;">$18</span><br style="font-family: arial\; font-size: 14px\;" />\n<strong style="font-family: arial\; font-size: 14px\;">At the door:&nbsp\; Members:&nbsp\;</strong><span style="font-family: arial\; font-size: 14px\;">$18\,&nbsp\;</span><strong style="font-family: arial\; font-size: 14px\;">Non Members:</strong><span style="font-family: arial\; font-size: 14px\;">&nbsp\;$25</span><br style="font-family: arial\; font-size: 14px\;" />\n<span style="font-family: arial\; font-size: 14px\;">Online advanced registration ends 12/11 at midnight</span>
LOCATION:Rosenberg's Bagels and Delicatessen Stanley Marketplace 2501 Dallas Street Aurora\, CO 80010
UID:e.2146.1789
SEQUENCE:3
DTSTAMP:20260425T035942Z
URL:https://business.denverjewishchamber.com/events/details/evening-networking-event-12-12-2019-1789
END:VEVENT

END:VCALENDAR
