BEGIN:VCALENDAR
VERSION:2.0
PRODID:-//ChamberMaster//Event Calendar 2.0//EN
METHOD:PUBLISH
X-PUBLISHED-TTL:P3D
REFRESH-INTERVAL:P3D
CALSCALE:GREGORIAN
BEGIN:VEVENT
DTSTART:20181011T233000Z
DTEND:20181012T013000Z
X-MICROSOFT-CDO-ALLDAYEVENT:FALSE
SUMMARY:Evening Networking Event
DESCRIPTION:Network & mingle at Happy Hour with the DJCC!  \n\n\n\nJoin us as we enjoy a Fall Happy Hour\; this is a great opportunity to expand your Chamber relationships.  \n\n\n\nWe will have cheese pizza\, Greek salad and bruschetta to nosh on while you have an opportunity to network with like-minded professionals\, so bring your business cards. Happy hour drinks and a full menu will also be available for you to purchase.  \n\n\n\nDO NOT WAIT TO SIGN UP!  \n\nPre-registration: Members: $9.00\, Non-members $11.00  \n\nAt the door: Members: $11.00\, Non-members: $13.00  \n\nOnline pre-registration ends 10/10
X-ALT-DESC;FMTTYPE=text/html:<span style="font-size:14px\;"><span style="font-family:arial\;"><strong>Network &amp\; mingle at Happy Hour with the DJCC! &nbsp\;</strong><br />\n<br />\nJoin us as we enjoy a Fall Happy Hour\; this is a <strong>great&nbsp\;opportunity to expand your&nbsp\;</strong>Chamber&nbsp\;<strong>relationships. &nbsp\;</strong><br />\n<br />\nWe will have cheese pizza\, Greek salad and bruschetta to nosh on while you have an&nbsp\;<strong>opportunity to network</strong>&nbsp\;with like-minded professionals\, so bring your business cards. Happy hour drinks and a full menu will also be available for you to purchase. &nbsp\;<br />\n<br />\n<strong>DO NOT WAIT TO SIGN UP!&nbsp\;</strong>&nbsp\;<br />\n<strong>Pre-registration: Members:</strong> $9.00\, <strong>Non-members</strong> $11.00 &nbsp\;<br />\n<strong>At the door: Members:</strong> $11.00\, <strong>Non-members: </strong>$13.00 &nbsp\;<br />\n<em><strong>Online pre-registration ends 10/10</strong></em></span></span><br />\n<br />\n<br />\n<br />\n<br />\n<br />\n<br />\n&nbsp\;
LOCATION:Zane's Italian Bistro 8101 E. Belleview Ave. Denver\, CO 80230
UID:e.2146.1775
SEQUENCE:3
DTSTAMP:20260425T211417Z
URL:https://business.denverjewishchamber.com/events/details/evening-networking-event-10-11-2018-1775
END:VEVENT

END:VCALENDAR
