BEGIN:VCALENDAR
VERSION:2.0
PRODID:-//ChamberMaster//Event Calendar 2.0//EN
METHOD:PUBLISH
X-PUBLISHED-TTL:P3D
REFRESH-INTERVAL:P3D
CALSCALE:GREGORIAN
BEGIN:VEVENT
DTSTART:20211202T083000Z
DTEND:20211202T103000Z
X-MICROSOFT-CDO-ALLDAYEVENT:FALSE
SUMMARY:Dreidel Networking
DESCRIPTION:Please join the Denver Jewish Chamber of Commerce for Dreidel Networking\, a festive Hanukkah themed networking event. We have a special game of dreidel to help you break the ice and make some new connections.
X-ALT-DESC;FMTTYPE=text/html:Please join the Denver Jewish Chamber of Commerce for Dreidel Networking\, a festive Hanukkah themed networking event. We have a special game of dreidel to help you break the ice and make some new connections.
LOCATION:Hebrew Education Alliance
UID:e.2146.2317
SEQUENCE:3
DTSTAMP:20260423T140900Z
URL:https://business.denverjewishchamber.com/events/details/dreidel-networking-2317
END:VEVENT

END:VCALENDAR
