BEGIN:VCALENDAR
VERSION:2.0
PRODID:-//ChamberMaster//Event Calendar 2.0//EN
METHOD:PUBLISH
X-PUBLISHED-TTL:P3D
REFRESH-INTERVAL:P3D
CALSCALE:GREGORIAN
BEGIN:VEVENT
DTSTART:20181214T003000Z
DTEND:20181214T023000Z
X-MICROSOFT-CDO-ALLDAYEVENT:FALSE
SUMMARY:Dreidel Networking
DESCRIPTION:Please join us for a fun and festive Hanukkah themed networking event.  We have a special game of dreidel to help you break the ice and make some new connections. \n\n\n\nWe will have latkes\, special Hanukkah treats\, wine and beer.\n\n\n\nCost:\n\nPre-registration: Members: $15\, Non Members: $18\n\nAt the door:  Members: $18\, Non Members: $20\n\nOnline advanced registration ends 12/12
X-ALT-DESC;FMTTYPE=text/html:<span style="font-size:14px\;"><span style="font-family:arial\;">Please join us for a fun and festive Hanukkah themed networking event.&nbsp\; We have a special game of dreidel to help you break the ice and make some new connections.&nbsp\;<br />\n<br />\nWe will have latkes\, special Hanukkah treats\, wine and beer.<br />\n<br />\n<strong>Cost:<br />\nPre-registration: Members: </strong>$15\, <strong>Non Members: </strong>$18<br />\n<strong>At the door:&nbsp\; Members: </strong>$18\, <strong>Non Members:</strong> $20<br />\nOnline advanced registration ends 12/12</span></span><br />\n<br />\n<br />\n<br />\n<br />\n<br />\n<br />\n&nbsp\;
LOCATION:Congregation Rodef Shalom 450 S Kearney St\, Denver\, CO 80224
UID:e.2146.1777
SEQUENCE:3
DTSTAMP:20260425T200930Z
URL:https://business.denverjewishchamber.com/events/details/dreidel-networking-12-13-2018-1777
END:VEVENT

END:VCALENDAR
