BEGIN:VCALENDAR
VERSION:2.0
PRODID:-//ChamberMaster//Event Calendar 2.0//EN
METHOD:PUBLISH
X-PUBLISHED-TTL:P3D
REFRESH-INTERVAL:P3D
CALSCALE:GREGORIAN
BEGIN:VEVENT
DTSTART:20221209T010000Z
DTEND:20221209T030000Z
X-MICROSOFT-CDO-ALLDAYEVENT:FALSE
SUMMARY:DJCC Chanukah Party and Dreidel Networking
DESCRIPTION:ONLINE RSVPs ARE NOW CLOSED. TO ATTEND THE EVENT\, PLEASE EMAIL ADMIN@DENVERJEWISHCHAMBER.COM. \n\nCome join the DJCC for our member appreciation Chanukah party. There will be Kosher food\, drinks and dreidel networking to create connections and spin the night away. \n\ncreate connections and\n\nspin the night away.
X-ALT-DESC;FMTTYPE=text/html:<p class="_04xlpA direction-ltr align-center para-style-body" style="--font-size:  33.792px\; --line-height:  1.1\; line-height: 37px\;"><span class="JsGRdQ"><span style="color:#B22222\;"><font face="arial"><span style="font-size: 12px\; font-weight: 700\;">ONLINE RSVPs ARE&nbsp\;NOW CLOSED. TO ATTEND THE EVENT\, PLEASE EMAIL ADMIN@DENVERJEWISHCHAMBER.COM.&nbsp\;</span></font></span><br />\n<font color="#000000" face="arial"><span style="font-size: 12px\; font-weight: 700\;">Come join the DJCC for our member&nbsp\;</span><span style="caret-color: rgb(0\, 0\, 0)\; font-size: 12px\;"><b>appreciation</b></span><span style="font-size: 12px\; font-weight: 700\;">&nbsp\;Chanukah party. There will be Kosher food\, drinks&nbsp\;</span></font></span><span style="color: rgb(0\, 0\, 0)\; font-family: &quot\;YALBs5G79lw 0&quot\;\, _fb_\, auto\;"><span style="font-size:12px\;"><span style="font-family:arial\;"><span class="JsGRdQ" style="font-weight: 700\;">and dreidel networking to create connections and spin the night away.&nbsp\;</span></span></span></span></p>\n\n<p class="_04xlpA direction-ltr align-center para-style-body" style="color: rgb(255\, 255\, 255)\; font-family: &quot\;YALBs5G79lw 0&quot\;\, _fb_\, auto\; --font-size:  33.792px\; --line-height:  1.1\; line-height: 37px\;"><span class="JsGRdQ" style="font-weight: 700\;">create connections and</span></p>\n\n<p class="_04xlpA direction-ltr align-center para-style-body" style="color: rgb(255\, 255\, 255)\; font-family: &quot\;YALBs5G79lw 0&quot\;\, _fb_\, auto\; --font-size:  33.792px\; --line-height:  1.1\; line-height: 37px\;"><span class="JsGRdQ" style="font-weight: 700\;">spin the night away.</span></p>\n
LOCATION:Hebrew Education Alliance 3600 S Ivanhoe St. Denver\, CO 80237
UID:e.2146.2344
SEQUENCE:3
DTSTAMP:20260422T174018Z
URL:https://business.denverjewishchamber.com/events/details/djcc-chanukah-party-and-dreidel-networking-2344
END:VEVENT

END:VCALENDAR
