BEGIN:VCALENDAR
VERSION:2.0
PRODID:-//ChamberMaster//Event Calendar 2.0//EN
METHOD:PUBLISH
X-PUBLISHED-TTL:P3D
REFRESH-INTERVAL:P3D
CALSCALE:GREGORIAN
BEGIN:VEVENT
DTSTART:20210422T180000Z
DTEND:20210422T190000Z
X-MICROSOFT-CDO-ALLDAYEVENT:FALSE
SUMMARY:Denver Jewish Chamber of Commerce and Boulder JCC Nosh and Network Joint Networking Event
DESCRIPTION:Businesses Are Built By Networking and Personal Referrals\n\nJoin the Denver Jewish Chamber of Commerce and Boulder JCC's Nosh and Network Group for a virtual networking event.\n\nExpand your professional network in a fun and friendly environment.\n\nCome prepared to introduce yourself and your business with a 30 second elevator pitch and learn more about Denver Jewish Chamber of Commerce and the Boulder JCC programming.
X-ALT-DESC;FMTTYPE=text/html:<br />\n<span style="font-size:14px\;"><span style="font-family:verdana\;"><span style="color: rgb(139\, 45\, 113)\; font-style: italic\; font-weight: 700\; text-align: center\; white-space: pre-wrap\;">Businesses Are Built By Networking and Personal Referrals</span><br />\n<span style="color: rgb(65\, 41\, 30)\; text-align: center\; white-space: pre-wrap\;">Join the Denver Jewish Chamber of Commerce and Boulder JCC&#39\;s Nosh and Network Group for a virtual networking event.<br />\nExpand your professional network in a fun and friendly environment.<br />\nCome prepared to introduce yourself and your business with a 30 second elevator pitch and learn more about Denver Jewish Chamber of Commerce and the Boulder JCC programming.</span></span></span>
LOCATION:This is a virtual event. Please register for Zoom link.
UID:e.2146.2186
SEQUENCE:3
DTSTAMP:20260424T042230Z
URL:https://business.denverjewishchamber.com/events/details/denver-jewish-chamber-of-commerce-and-boulder-jcc-nosh-and-network-joint-networking-event-2186
END:VEVENT

END:VCALENDAR
