BEGIN:VCALENDAR
VERSION:2.0
PRODID:-//ChamberMaster//Event Calendar 2.0//EN
METHOD:PUBLISH
X-PUBLISHED-TTL:P3D
REFRESH-INTERVAL:P3D
CALSCALE:GREGORIAN
BEGIN:VEVENT
DTSTART:20181028T203000Z
DTEND:20181029T000000Z
X-MICROSOFT-CDO-ALLDAYEVENT:FALSE
SUMMARY:Colorado Rapids Jewish Community Night
DESCRIPTION:Colorado Rapids vs. FC Dallas\n\n\n\nPlease join us Sunday\, October 28 for an afternoon of soccer\, fellowship and fun as we celebrate Jewish Pride.\n\n\n\nTickets available at http://www.rapidstix.com/jewishcommunitynight\n\nParking is included with the ticket\n\nTailgate will begin two hours prior to kickoff\n\n\n\nQuestions? Contact Bianca Velez at Bianca.Velez@TeamKSE.com or 303-727-3590\n\n\n\nVisit the Colorado Rapids at https://www.coloradorapids.com/
X-ALT-DESC;FMTTYPE=text/html:<strong>Colorado Rapids vs. FC Dallas</strong><br />\n<br />\nPlease join us Sunday\, October 28 for an afternoon of soccer\, fellowship and fun as we celebrate Jewish Pride.<br />\n<br />\nTickets available at <a href="http://www.rapidstix.com/jewishcommunitynight">http://www.rapidstix.com/jewishcommunitynight</a><br />\nParking is included with the ticket<br />\nTailgate will begin two hours prior to kickoff<br />\n<br />\nQuestions? Contact Bianca Velez at <a href="mailto:Bianca.Velez@TeamKSE.com">Bianca.Velez@TeamKSE.com</a> or 303-727-3590<br />\n<br />\nVisit the Colorado Rapids at <a href="https://www.coloradorapids.com/">https://www.coloradorapids.com/</a><br />\n<br />\n&nbsp\;
LOCATION:DICK'S Sporting Goods Park 6000 Victory Way Commerce City\, CO 80022
UID:e.2146.1898
SEQUENCE:3
DTSTAMP:20260425T212520Z
URL:https://business.denverjewishchamber.com/events/details/colorado-rapids-jewish-community-night-1898
END:VEVENT

END:VCALENDAR
