BEGIN:VCALENDAR
VERSION:2.0
PRODID:-//ChamberMaster//Event Calendar 2.0//EN
METHOD:PUBLISH
X-PUBLISHED-TTL:P3D
REFRESH-INTERVAL:P3D
CALSCALE:GREGORIAN
BEGIN:VEVENT
DTSTART:20230118T143000Z
DTEND:20230118T153000Z
X-MICROSOFT-CDO-ALLDAYEVENT:FALSE
SUMMARY:CANCELLED - Breakfast Networking 3rd Wednesday
DESCRIPTION:BREAKFAST CANCELLED DUE TO INCLEMENT WEATHER \n\n\n\nMember Presentation by Dr. Lee Weisbard of Weisbard Dental\n\n\n\nAre you looking to grow your business and generate leads? Come join us the third Wednesday of the month to network and build relationships.\n\n \n\nEach meeting will consist of the following:\n\n	Networking\n	Member introductions (30 second elevator speech)\n	Member presentations\n	Announcements\n	Additional networking
X-ALT-DESC;FMTTYPE=text/html:<span style="font-size:18px\;"><span style="color:#B22222\;"><strong>BREAKFAST CANCELLED DUE TO INCLEMENT WEATHER&nbsp\;</strong></span></span><br />\n<br />\nMember Presentation by Dr. Lee Weisbard of <a href="https://www.weisbarddental.com/">Weisbard Dental</a><br />\n<br />\nAre you looking to grow your business and generate leads? Come join us the third Wednesday of the month to network and&nbsp\;build relationships.<br />\n&nbsp\;<br />\nEach meeting will consist of the following:\n<ul>\n	<li>Networking</li>\n	<li>Member introductions (30 second elevator speech)</li>\n	<li>Member presentations</li>\n	<li>Announcements</li>\n	<li>Additional networking</li>\n</ul>\n
LOCATION:
UID:e.2146.1584
SEQUENCE:3
DTSTAMP:20260422T154716Z
URL:https://business.denverjewishchamber.com/events/details/cancelled-breakfast-networking-3rd-wednesday-1584
END:VEVENT

END:VCALENDAR
