BEGIN:VCALENDAR
VERSION:2.0
PRODID:-//ChamberMaster//Event Calendar 2.0//EN
METHOD:PUBLISH
X-PUBLISHED-TTL:P3D
REFRESH-INTERVAL:P3D
CALSCALE:GREGORIAN
BEGIN:VEVENT
DTSTART:20250521T133000Z
DTEND:20250521T143000Z
X-MICROSOFT-CDO-ALLDAYEVENT:FALSE
SUMMARY:Breakfast Networking 3rd Wednesday Featuring "If Networking is So Important\, How Come No One Has Taught Me How?" Presentation by Articulated Intelligence
DESCRIPTION:Are you looking to grow your business and generate leads? Come join us the third Wednesday of the month to network and build relationships.\n\n \n\nEach meeting will consist of the following:\n\n	Networking\n	Member introductions (30 second elevator speech)\n	Announcements\n	Additional networking\n\nThis meeting will feature a special 45-minute presentation by Alyce Blum Guerrero of Articulated Intelligence called "If Networking is So Important\, How Come No One Has Taught Me How?"
X-ALT-DESC;FMTTYPE=text/html:Are you looking to grow your business and generate leads? Come join us the third Wednesday of the month to network and&nbsp\;build relationships.<br />\n&nbsp\;<br />\nEach meeting will consist of the following:\n<ul>\n	<li>Networking</li>\n	<li>Member introductions (30 second elevator speech)</li>\n	<li>Announcements</li>\n	<li>Additional networking</li>\n</ul>\n<strong>This meeting will feature a special 45-minute presentation by Alyce Blum Guerrero of <a href="https://www.articulated-intelligence.com/" target="_blank">Articulated Intelligence</a> called &quot\;If Networking is So Important\, How Come No One Has Taught Me How?&quot\;</strong>
LOCATION:New York Deli News 7105 East Hampden Avenue Denver\, CO 80224
UID:e.2146.1612
SEQUENCE:3
DTSTAMP:20260422T090708Z
URL:https://business.denverjewishchamber.com/events/details/breakfast-networking-3rd-wednesday-featuring-if-networking-is-so-important-how-come-no-one-has-taught-me-how-presentation-by-articulated-intelligence-1612
END:VEVENT

END:VCALENDAR
