BEGIN:VCALENDAR
VERSION:2.0
PRODID:-//ChamberMaster//Event Calendar 2.0//EN
METHOD:PUBLISH
X-PUBLISHED-TTL:P3D
REFRESH-INTERVAL:P3D
CALSCALE:GREGORIAN
BEGIN:VEVENT
DTSTART:20221221T143000Z
DTEND:20221221T153000Z
X-MICROSOFT-CDO-ALLDAYEVENT:FALSE
SUMMARY:Breakfast Networking 3rd Wednesday
DESCRIPTION:Are you looking to grow your business and generate leads? Come join us the third Wednesday of the month to network and build relationships.\n\n \n\nEach meeting will consist of the following:\n\n	Networking\n	Member introductions (30 second elevator speech)\n	Member presentations\n	Announcements\n	Additional networking
X-ALT-DESC;FMTTYPE=text/html:<br />\nAre you looking to grow your business and generate leads? Come join us the third Wednesday of the month to network and&nbsp\;build relationships.<br />\n&nbsp\;<br />\nEach meeting will consist of the following:\n<ul>\n	<li>Networking</li>\n	<li>Member introductions (30 second elevator speech)</li>\n	<li>Member presentations</li>\n	<li>Announcements</li>\n	<li>Additional networking</li>\n</ul>\n
LOCATION:
UID:e.2146.1583
SEQUENCE:3
DTSTAMP:20260422T174023Z
URL:https://business.denverjewishchamber.com/events/details/breakfast-networking-3rd-wednesday-12-21-2022-1583
END:VEVENT

END:VCALENDAR
