BEGIN:VCALENDAR
VERSION:2.0
PRODID:-//ChamberMaster//Event Calendar 2.0//EN
METHOD:PUBLISH
X-PUBLISHED-TTL:P3D
REFRESH-INTERVAL:P3D
CALSCALE:GREGORIAN
BEGIN:VEVENT
DTSTART:20191218T143000Z
DTEND:20191218T153000Z
X-MICROSOFT-CDO-ALLDAYEVENT:FALSE
SUMMARY:Breakfast Networking 3rd Wednesday
DESCRIPTION:December 18\,2019 Breakfast   SPECIAL SESSION\n\n \nPlease attend the last breakfast event of the year which will be a unique blend of networking and member collaboration. We'll start with extended time for shout outs so you can recognize members who have impacted you professionally and personally this past year. Next\, we'll facilitate a fun\, interactive working session to brainstorm ways to attract even more members to this amazing community. We have some aggressive growth goals for 2020\, and we are looking for everyone's ideas to expand the Chamber. Finally\, we'll wrap up with announcements and open networking. \n\n\n\nThis breakfast meeting will give you a chance to provide your valuable input on how the chamber can grow its membership in 2020.  Please make it a point to come to this special breakfast meeting. It just won't be complete without you and your unique ideas. \n\n\n\n\nCost:\n\nFull breakfast plus beverage: $13\n\nBeverage only: $5\n\nPaid directly to the New York Deli News\n\n\n\n\n\nINCLEMENT WEATHER POLICY:  IF DENVER PUBLIC SCHOOLS ARE CLOSED DUE TO WEATHER\, THIS EVENT IS CANCELED.  PLEASE CHECK LOCAL LISTINGS BEFORE ATTENDING.
X-ALT-DESC;FMTTYPE=text/html:<span style="color: rgb(32\, 31\, 30)\; font-family: Calibri\, sans-serif\; font-size: 14.6667px\;">December 18\,2019&nbsp\;</span><span style="color: rgb(32\, 31\, 30)\; font-family: Calibri\, sans-serif\; font-size: 11pt\;">Breakfast &ndash\; <strong>SPECIAL SESSION</strong></span><br />\n&nbsp\;\n<p style="color: rgb(32\, 31\, 30)\; font-size: 11pt\; font-family: Calibri\, sans-serif\; margin: 0px 0px 8pt\; line-height: 15.5467px\;">Please attend the last breakfast event of the year which will be a unique blend of networking and member collaboration. We&rsquo\;ll start with extended time for shout outs so you can recognize members who have impacted you professionally and personally this past year. Next\, we&rsquo\;ll facilitate a fun\, interactive working session to brainstorm ways to attract even more members to this amazing community. We have some aggressive growth goals for 2020\, and we are looking for everyone&rsquo\;s ideas to expand the Chamber. Finally\, we&rsquo\;ll wrap up with announcements and open networking.&nbsp\;<br />\n<br />\n<strong><i style="color: rgb(32\, 31\, 30)\; font-family: Calibri\, sans-serif\; font-size: 14.6667px\;">This breakfast meeting will give you a chance to provide your valuable input on how the chamber can grow its membership in 2020.&nbsp\; Please make it a point to come to this special breakfast meeting. It just won&rsquo\;t be complete without you and your unique ideas.&nbsp\;</i></strong></p>\n<br />\n<br />\n<strong>Cost:</strong><br />\nFull breakfast plus beverage: $13<br />\nBeverage only: $5<br />\nPaid directly to the New York Deli News<br />\n<br />\n<br />\n<span style="box-sizing: border-box\; font-weight: bolder\; color: rgb(68\, 68\, 68)\; font-family: Arial\, Helvetica\, sans-serif\; font-size: 14px\;">INCLEMENT WEATHER POLICY:&nbsp\; IF DENVER PUBLIC SCHOOLS ARE CLOSED DUE TO WEATHER\, THIS EVENT IS CANCELED.&nbsp\; PLEASE CHECK LOCAL LISTINGS BEFORE ATTENDING.</span>
LOCATION:NEW YORK DELI NEWS 7105 E Hampden Ave\, Denver CO 80224
UID:e.2146.1547
SEQUENCE:3
DTSTAMP:20260425T040236Z
URL:https://business.denverjewishchamber.com/events/details/breakfast-networking-3rd-wednesday-12-18-2019-1547
END:VEVENT

END:VCALENDAR
