BEGIN:VCALENDAR
VERSION:2.0
PRODID:-//ChamberMaster//Event Calendar 2.0//EN
METHOD:PUBLISH
X-PUBLISHED-TTL:P3D
REFRESH-INTERVAL:P3D
CALSCALE:GREGORIAN
BEGIN:VEVENT
DTSTART:20200916T133000Z
DTEND:20200916T143000Z
X-MICROSOFT-CDO-ALLDAYEVENT:FALSE
SUMMARY:Breakfast Networking 3rd Wednesday
DESCRIPTION:Are you looking to grow your business and generate leads? Come join us the third Wednesday of the month to network and build relationships.\n\n \n\nEach meeting will consist of the following:\n\n	Networking\n	Member introductions (30 second elevator speech)\n	Member presentations\n	Announcements\n	Additional networking
X-ALT-DESC;FMTTYPE=text/html:<br />\nAre you looking to grow your business and generate leads? Come join us the third Wednesday of the month to network and&nbsp\;build relationships.<br />\n&nbsp\;<br />\nEach meeting will consist of the following:\n<ul>\n	<li>Networking</li>\n	<li>Member introductions (30 second elevator speech)</li>\n	<li>Member presentations</li>\n	<li>Announcements</li>\n	<li>Additional networking</li>\n</ul>\n
LOCATION:We continue to meet virtually via Zoom. If you are interested in attending email sheila@denverjewishchamber.com for more information
UID:e.2146.1556
SEQUENCE:3
DTSTAMP:20260424T173300Z
URL:https://business.denverjewishchamber.com/events/details/breakfast-networking-3rd-wednesday-09-16-2020-1556
END:VEVENT

END:VCALENDAR
