BEGIN:VCALENDAR
VERSION:2.0
PRODID:-//ChamberMaster//Event Calendar 2.0//EN
METHOD:PUBLISH
X-PUBLISHED-TTL:P3D
REFRESH-INTERVAL:P3D
CALSCALE:GREGORIAN
BEGIN:VEVENT
DTSTART:20190515T133000Z
DTEND:20190515T143000Z
X-MICROSOFT-CDO-ALLDAYEVENT:FALSE
SUMMARY:Breakfast Networking 3rd Wednesday
DESCRIPTION:Are you looking to grow your business and generate leads? Come join us the third Wednesday of the month to network and build relationships.\n\n \n\nEach meeting will consist of the following:\n\n	Networking\n	Member introductions (30 second elevator speech)\n	Member presentations\n	Announcements\n	Additional networking\n\nSpecial Surprise Entree at each meeting and expanded menu choices. Choose from eggs any style\, waffles\, hot cereal\, or the breakfast special. Not hungry? New beverage only menu.\n\n\n\nCost:\n\nFull breakfast plus beverage: $13\n\nBeverage only: $5\n\nPaid directly to the New York Deli News
X-ALT-DESC;FMTTYPE=text/html:<br />\nAre you looking to grow your business and generate leads? Come join us the third Wednesday of the month to network and&nbsp\;build relationships.<br />\n&nbsp\;<br />\nEach meeting will consist of the following:\n<ul>\n	<li>Networking</li>\n	<li>Member introductions (30 second elevator speech)</li>\n	<li>Member presentations</li>\n	<li>Announcements</li>\n	<li>Additional networking</li>\n</ul>\nSpecial Surprise Entree at each meeting and expanded menu choices. Choose from eggs any style\, waffles\, hot cereal\, or the breakfast special. Not hungry? New beverage only menu.<br />\n<br />\n<strong>Cost:</strong><br />\nFull breakfast plus beverage: $13<br />\nBeverage only: $5<br />\nPaid directly to the New York Deli News
LOCATION:NEW YORK DELI NEWS 7105 E Hampden Ave\, Denver CO 80224
UID:e.2146.1540
SEQUENCE:3
DTSTAMP:20260425T133547Z
URL:https://business.denverjewishchamber.com/events/details/breakfast-networking-3rd-wednesday-05-15-2019-1540
END:VEVENT

END:VCALENDAR
