BEGIN:VCALENDAR
VERSION:2.0
PRODID:-//ChamberMaster//Event Calendar 2.0//EN
METHOD:PUBLISH
X-PUBLISHED-TTL:P3D
REFRESH-INTERVAL:P3D
CALSCALE:GREGORIAN
BEGIN:VEVENT
DTSTART:20200415T133000Z
DTEND:20200415T143000Z
X-MICROSOFT-CDO-ALLDAYEVENT:FALSE
SUMMARY:Breakfast Networking 3rd Wednesday
DESCRIPTION:There will be no breakfast today.  Happy Passover!  See you next month.
X-ALT-DESC;FMTTYPE=text/html:<br />\n<strong><span style="font-size:36px\;">There will be no breakfast today.&nbsp\; Happy Passover!&nbsp\; See you next month.</span></strong><br />\n<br />\n&nbsp\;
LOCATION:
UID:e.2146.1551
SEQUENCE:3
DTSTAMP:20260424T231502Z
URL:https://business.denverjewishchamber.com/events/details/breakfast-networking-3rd-wednesday-04-15-2020-1551
END:VEVENT

END:VCALENDAR
