BEGIN:VCALENDAR
VERSION:2.0
PRODID:-//ChamberMaster//Event Calendar 2.0//EN
METHOD:PUBLISH
X-PUBLISHED-TTL:P3D
REFRESH-INTERVAL:P3D
CALSCALE:GREGORIAN
BEGIN:VEVENT
DTSTART:20200318T133000Z
DTEND:20200318T143000Z
X-MICROSOFT-CDO-ALLDAYEVENT:FALSE
SUMMARY:Breakfast Networking 3rd Wednesday
DESCRIPTION:THE BREAKFAST HAS BEEN CANCELLED DUE TO RECOMMENDATIONS REGARDING COVID- 19.  WE WILL RESUME OUR NETWORKING EVENTS WHEN GUIDELINES AND RECOMMENDATIONS FOR SOCIAL DISTANCING HAVE BEEN REVOKED.\n\n\n\n\n\nAre you looking to grow your business and generate leads? Come join us the third Wednesday of the month to network and build relationships.\n\n \n\nEach meeting will consist of the following:\n\n	Networking\n	Member introductions (30 second elevator speech)\n	Member presentations\n	Announcements\n	Additional networking\n\nSpecial Surprise Entree at each meeting and expanded menu choices. Choose from eggs any style\, waffles\, hot cereal\, or the breakfast special. Not hungry? New beverage only menu.\n\n\n\nCost:\n\nFull breakfast plus beverage: $13\n\nBeverage only: $5\n\nPaid directly to the New York Deli News\n\n\n\n\n\nINCLEMENT WEATHER POLICY:  IF DENVER PUBLIC SCHOOLS ARE CLOSED DUE TO WEATHER\, THIS EVENT IS CANCELED.  PLEASE CHECK LOCAL LISTINGS BEFORE ATTENDING.
X-ALT-DESC;FMTTYPE=text/html:<span style="font-size:28px\;"><strong>THE BREAKFAST HAS BEEN CANCELLED DUE TO RECOMMENDATIONS REGARDING COVID- 19.&nbsp\; WE WILL RESUME OUR NETWORKING EVENTS WHEN GUIDELINES AND RECOMMENDATIONS FOR SOCIAL DISTANCING HAVE BEEN REVOKED.</strong></span><br />\n<br />\n<br />\nAre you looking to grow your business and generate leads? Come join us the third Wednesday of the month to network and&nbsp\;build relationships.<br />\n&nbsp\;<br />\nEach meeting will consist of the following:\n<ul>\n	<li>Networking</li>\n	<li>Member introductions (30 second elevator speech)</li>\n	<li>Member presentations</li>\n	<li>Announcements</li>\n	<li>Additional networking</li>\n</ul>\nSpecial Surprise Entree at each meeting and expanded menu choices. Choose from eggs any style\, waffles\, hot cereal\, or the breakfast special. Not hungry? New beverage only menu.<br />\n<br />\n<strong>Cost:</strong><br />\nFull breakfast plus beverage: $13<br />\nBeverage only: $5<br />\nPaid directly to the New York Deli News<br />\n<br />\n<br />\n<span style="box-sizing: border-box\; font-weight: bolder\; color: rgb(68\, 68\, 68)\; font-family: Arial\, Helvetica\, sans-serif\; font-size: 14px\;">INCLEMENT WEATHER POLICY:&nbsp\; IF DENVER PUBLIC SCHOOLS ARE CLOSED DUE TO WEATHER\, THIS EVENT IS CANCELED.&nbsp\; PLEASE CHECK LOCAL LISTINGS BEFORE ATTENDING.</span>
LOCATION:NEW YORK DELI NEWS 7105 E Hampden Ave\, Denver CO 80224
UID:e.2146.1550
SEQUENCE:3
DTSTAMP:20260425T013000Z
URL:https://business.denverjewishchamber.com/events/details/breakfast-networking-3rd-wednesday-03-18-2020-1550
END:VEVENT

END:VCALENDAR
