BEGIN:VCALENDAR
VERSION:2.0
PRODID:-//ChamberMaster//Event Calendar 2.0//EN
METHOD:PUBLISH
X-PUBLISHED-TTL:P3D
REFRESH-INTERVAL:P3D
CALSCALE:GREGORIAN
BEGIN:VEVENT
DTSTART:20200101T143000Z
DTEND:20200101T153000Z
X-MICROSOFT-CDO-ALLDAYEVENT:FALSE
SUMMARY:Breakfast Networking 1st Wednesday CANCELLED
DESCRIPTION:THERE WILL BE NO BREAKFAST TODAY DUE TO NEW YEAR'S DAY.  HAPPY NEW YEAR!  THE REGULARLY SCHEDULED BREAKFASTS WILL BEGIN AGAIN ON  JANUARY 15TH.  SEE YOU THEN!\n\n\n\nAre you looking to grow your business and generate leads? Come join us the first Wednesday of the month to network and build relationships.\n\n \n\nEach meeting will consist of the following:\n\n	Networking\n	Member introductions (30 second elevator speech)\n	Member presentations\n	Announcements\n	Additional networking\n\nSpecial Surprise Entree at each meeting and expanded menu choices. Choose from eggs any style\, waffles\, hot cereal\, or the breakfast special. Not hungry? New beverage only menu.\n\n\n\nCost:\n\nFull breakfast plus beverage: $13\n\nBeverage only: $5\n\nPaid directly to the New York Deli News\n\n\n\nINCLEMENT WEATHER POLICY:  IF DENVER PUBLIC SCHOOLS ARE CLOSED DUE TO WEATHER\, THIS EVENT IS CANCELED.  PLEASE CHECK LOCAL LISTINGS BEFORE ATTENDING.
X-ALT-DESC;FMTTYPE=text/html:<b>THERE WILL BE NO BREAKFAST TODAY DUE TO NEW YEAR&#39\;S DAY.&nbsp\; HAPPY NEW YEAR!&nbsp\; THE REGULARLY SCHEDULED BREAKFASTS WILL BEGIN AGAIN ON&nbsp\; JANUARY 15TH.&nbsp\; SEE YOU THEN!</b><br />\n<br />\nAre you looking to grow your business and generate leads? Come join us the first Wednesday of the month to network and&nbsp\;build relationships.<br />\n&nbsp\;<br />\nEach meeting will consist of the following:\n<ul>\n	<li>Networking</li>\n	<li>Member introductions (30 second elevator speech)</li>\n	<li>Member presentations</li>\n	<li>Announcements</li>\n	<li>Additional networking</li>\n</ul>\nSpecial Surprise Entree at each meeting and expanded menu choices. Choose from eggs any style\, waffles\, hot cereal\, or the breakfast special. Not hungry? New beverage only menu.<br />\n<br />\n<strong>Cost:</strong><br />\nFull breakfast plus beverage: $13<br />\nBeverage only: $5<br />\nPaid directly to the New York Deli News<br />\n<br />\n<span style="box-sizing: border-box\; font-weight: bolder\; color: rgb(68\, 68\, 68)\; font-family: Arial\, Helvetica\, sans-serif\; font-size: 14px\;">INCLEMENT WEATHER POLICY:&nbsp\; IF DENVER PUBLIC SCHOOLS ARE CLOSED DUE TO WEATHER\, THIS EVENT IS CANCELED.&nbsp\; PLEASE CHECK LOCAL LISTINGS BEFORE ATTENDING.</span>
LOCATION:NEW YORK DELI NEWS 7105 E Hampden Ave\, Denver CO 80224
UID:e.2146.1427
SEQUENCE:3
DTSTAMP:20260425T025128Z
URL:https://business.denverjewishchamber.com/events/details/breakfast-networking-1st-wednesday-cancelled-1427
END:VEVENT

END:VCALENDAR
