BEGIN:VCALENDAR
VERSION:2.0
PRODID:-//ChamberMaster//Event Calendar 2.0//EN
METHOD:PUBLISH
X-PUBLISHED-TTL:P3D
REFRESH-INTERVAL:P3D
CALSCALE:GREGORIAN
BEGIN:VEVENT
DTSTART:20200805T133000Z
DTEND:20200805T143000Z
X-MICROSOFT-CDO-ALLDAYEVENT:FALSE
SUMMARY:Breakfast Networking 1st Wednesday
DESCRIPTION:Are you looking to grow your business and generate leads? Come join us the first Wednesday of the month to network and build relationships.\n\n \n\nEach meeting will consist of the following:\n\n	Networking\n	Member introductions (30 second elevator speech)\n	Member presentations\n	Announcements\n	Additional networking\n\nINCLEMENT WEATHER POLICY:  IF DENVER PUBLIC SCHOOLS ARE CLOSED DUE TO WEATHER\, THIS EVENT IS CANCELED.  PLEASE CHECK LOCAL LISTINGS BEFORE ATTENDING.
X-ALT-DESC;FMTTYPE=text/html:Are you looking to grow your business and generate leads? Come join us the first Wednesday of the month to network and&nbsp\;build relationships.<br />\n&nbsp\;<br />\nEach meeting will consist of the following:\n<ul>\n	<li>Networking</li>\n	<li>Member introductions (30 second elevator speech)</li>\n	<li>Member presentations</li>\n	<li>Announcements</li>\n	<li>Additional networking</li>\n</ul>\n<span style="box-sizing: border-box\; font-weight: bolder\; color: rgb(68\, 68\, 68)\; font-family: Arial\, Helvetica\, sans-serif\; font-size: 14px\;">INCLEMENT WEATHER POLICY:&nbsp\; IF DENVER PUBLIC SCHOOLS ARE CLOSED DUE TO WEATHER\, THIS EVENT IS CANCELED.&nbsp\; PLEASE CHECK LOCAL LISTINGS BEFORE ATTENDING.</span>
LOCATION:We continue to meet virtually\, via Zoom. Links to the breakfast go out the Monday prior to the event. For link or more information\, email sheila@denverjewishchamber.com
UID:e.2146.1434
SEQUENCE:3
DTSTAMP:20260424T191311Z
URL:https://business.denverjewishchamber.com/events/details/breakfast-networking-1st-wednesday-08-05-2020-1434
END:VEVENT

END:VCALENDAR
