BEGIN:VCALENDAR
VERSION:2.0
PRODID:-//ChamberMaster//Event Calendar 2.0//EN
METHOD:PUBLISH
X-PUBLISHED-TTL:P3D
REFRESH-INTERVAL:P3D
CALSCALE:GREGORIAN
BEGIN:VEVENT
DTSTART:20220408T000000Z
DTEND:20220408T030000Z
X-MICROSOFT-CDO-ALLDAYEVENT:FALSE
SUMMARY:Billiards and Brews with the DJCC
DESCRIPTION:Come join the DJCC for networking\, billiards and brews at Tarantula Billiards! \n\nThis is a FREE event for members and non-members who want to learn more about getting involved with the DJCC.\n\n\n\nThe DJCC will be providing light bites and non-alcoholic beverages.
X-ALT-DESC;FMTTYPE=text/html:Come join the DJCC for networking\, billiards and brews at&nbsp\;Tarantula Billiards!&nbsp\;<br />\nThis is a FREE event for members and non-members who want to learn more about getting involved with the DJCC.<br />\n<br />\nThe DJCC will be providing light bites and non-alcoholic&nbsp\;beverages.&nbsp\;
LOCATION:Tarantula Billiards 1520 Stout St Denver\, CO\, 80202
UID:e.2146.2318
SEQUENCE:3
DTSTAMP:20260423T065415Z
URL:https://business.denverjewishchamber.com/events/details/billiards-and-brews-with-the-djcc-2318
END:VEVENT

END:VCALENDAR
