BEGIN:VCALENDAR
VERSION:2.0
PRODID:-//ChamberMaster//Event Calendar 2.0//EN
METHOD:PUBLISH
X-PUBLISHED-TTL:P3D
REFRESH-INTERVAL:P3D
CALSCALE:GREGORIAN
BEGIN:VEVENT
DTSTART:20180820T140000Z
DTEND:20180820T190000Z
X-MICROSOFT-CDO-ALLDAYEVENT:FALSE
SUMMARY:Annual Jewish Charity Golf Tournament
DESCRIPTION:Our Annual Charity Golf tournament benefits programs of B'nai B'rith\, the Denver Jewish Chamber of Commerce\, and Staenberg-Loup Jewish Community Center.\n\n\n\nThis year\, we're adding something for our friends and family who might not want a "full 18-Hole Experience" - A Golf Lesson and play on the Par 3 course! This fun event is intended for everybody\, so come all and expect to have a great time!\n\n\n\n7:00 am - Check - in Opens (practice facilities available) Breakfast Available\n\n8:00 am - Tee Off\n\n9:00 am - Golf Lesson\n\n12:00 pm - Lunch (Kosher available)\n\n\n\nChampionship 18-hole Course   Lesson and Play on par 3\n\nBreakfast and lunch provided   door prizes - Oy vey do we have great prizes!\n\nEntry Fee $150 per player\, $50 for lesson and par 3 play\n\n\n\nLearn More & Register Here    GOLF
X-ALT-DESC;FMTTYPE=text/html:<span style="font-size:14px\;"><span style="font-family: arial\;">Our Annual Charity Golf tournament benefits programs of B&#39\;nai B&#39\;rith\, the Denver Jewish Chamber of Commerce\, and Staenberg-Loup Jewish Community Center.<br />\n<br />\nThis year\, we&#39\;re adding something for our friends and family who might not want a &quot\;full 18-Hole Experience&quot\; - A Golf Lesson and play on the Par 3 course! This fun event is intended for everybody\, so come all and expect to have a great time!<br />\n<br />\n7:00 am - Check - in Opens (practice facilities available) Breakfast Available<br />\n8:00 am - Tee Off<br />\n9:00 am - Golf Lesson<br />\n12:00 pm - Lunch (Kosher available)<br />\n<br />\n<strong>Championship 18-hole Course &bull\; Lesson and Play on par 3<br />\nBreakfast and lunch provided &bull\; door prizes - Oy vey do we have great prizes!<br />\nEntry Fee $150 per player\, $50 for lesson and par 3 play</strong></span></span><br />\n<br />\n<strong>Learn More &amp\; Register Here &gt\;&gt\;</strong> <a href="http://www.denverjewishgolf.org/"><strong>GOLF</strong></a><br />\n<br />\n<br />\n<br />\n&nbsp\;
LOCATION:Green Valley Ranch Championship Golf Club (GVR) 4900 Himalaya Rd. Denver\, CO 80249
UID:e.2146.1897
SEQUENCE:3
DTSTAMP:20260425T235117Z
URL:https://business.denverjewishchamber.com/events/details/annual-jewish-charity-golf-tournament-1897
END:VEVENT

END:VCALENDAR
