BEGIN:VCALENDAR
VERSION:2.0
PRODID:-//ChamberMaster//Event Calendar 2.0//EN
METHOD:PUBLISH
X-PUBLISHED-TTL:P3D
REFRESH-INTERVAL:P3D
CALSCALE:GREGORIAN
BEGIN:VEVENT
DTSTART:20200626T010000Z
DTEND:20200626T023000Z
X-MICROSOFT-CDO-ALLDAYEVENT:FALSE
SUMMARY:Annual Event
DESCRIPTION:L'Chaim\n\nTo Life and Growth\n\n2019   2020 Annual Event\n\n \n\nPlease join us for some\n\nCocktails\, Conversation and Celebration\n\n \n\nCelebrating our community\, honoring our members.\n\n \n\nJoin us for this one-of-a-kind annual event\; celebrating our members\, our community and our success as an organization. Help  support our own New York Deli News and order a special dinner\, then prepare a specialty cocktail an join us in the celebration.\n\n \n\nHave a Special Shout Out?\n\nPlease be prepared to share and get creative\; prepare a sign\, come in a costume or with a fun storythat exemplifies whomever you'd like to recognize.\n\n \n\nNew York Deli News\n\nDJCC Annual Event Dinner Special\n\nJune 25\, 2020\n\n \n\nFirst Course\n\n$3\n\nChicken Noodle Soup Cup\n\nSmall House Salad\n\nMatzo Ball Soup add $1\n\n \n\nEntr e\n\n$14\n\nPlain Bagel\, Nova lox\, Cream Cheese\, lettuce\, tomato\, red onion\, capers\n\nBeef Brisket\, Baked Potato\, Broccoli\, Au jus\n\nStuffed Cabbage\, Boiled Potatoes\n\n \n\nDessert\n\n$4\n\nCheesecake\n\nApple Strudel\n\nRice Pudding\n\n \n\nNo Substitutions\n\nCall the Restaurant to place your order for Pick Up and let them know it's for this event. Special menu and Special pricing for this event only\n\n \n\n303-759-4741
X-ALT-DESC;FMTTYPE=text/html:<p style="color: rgb(32\, 31\, 30)\; font-size: 11pt\; font-family: Calibri\, sans-serif\; margin: 0px\;"><span style="color:#0000FF\;">L&rsquo\;Chaim</span></p>\n\n<p style="color: rgb(32\, 31\, 30)\; font-size: 11pt\; font-family: Calibri\, sans-serif\; margin: 0px\;"><span style="color:#0000FF\;">To Life and Growth</span></p>\n\n<p style="color: rgb(32\, 31\, 30)\; font-size: 11pt\; font-family: Calibri\, sans-serif\; margin: 0px\;"><span style="color:#0000FF\;">2019 &ndash\; 2020 Annual Event</span></p>\n\n<p style="color: rgb(32\, 31\, 30)\; font-size: 11pt\; font-family: Calibri\, sans-serif\; margin: 0px\;">&nbsp\;</p>\n\n<p style="color: rgb(32\, 31\, 30)\; font-size: 11pt\; font-family: Calibri\, sans-serif\; margin: 0px\;"><span style="color:#0000FF\;">Please join us for some</span></p>\n\n<p style="color: rgb(32\, 31\, 30)\; font-size: 11pt\; font-family: Calibri\, sans-serif\; margin: 0px\;"><span style="color:#0000FF\;">Cocktails\, Conversation and Celebration</span></p>\n\n<p style="color: rgb(32\, 31\, 30)\; font-size: 11pt\; font-family: Calibri\, sans-serif\; margin: 0px\;">&nbsp\;</p>\n\n<p style="color: rgb(32\, 31\, 30)\; font-size: 11pt\; font-family: Calibri\, sans-serif\; margin: 0px\;"><span style="color:#0000FF\;">Celebrating our community\, honoring our members.</span></p>\n\n<p style="color: rgb(32\, 31\, 30)\; font-size: 11pt\; font-family: Calibri\, sans-serif\; margin: 0px\;">&nbsp\;</p>\n\n<p style="color: rgb(32\, 31\, 30)\; font-size: 11pt\; font-family: Calibri\, sans-serif\; margin: 0px\;"><span style="color:#0000FF\;">Join us for this one-of-a-kind annual event\; celebrating our members\, our community and our success as an organization. Help&nbsp\; support our own New York Deli News and order a special dinner\, then prepare a specialty cocktail an join us in the celebration.</span></p>\n\n<p style="color: rgb(32\, 31\, 30)\; font-size: 11pt\; font-family: Calibri\, sans-serif\; margin: 0px\;">&nbsp\;</p>\n\n<p style="color: rgb(32\, 31\, 30)\; font-size: 11pt\; font-family: Calibri\, sans-serif\; margin: 0px\;"><span style="color:#0000FF\;">Have a Special Shout Out?</span></p>\n\n<p style="color: rgb(32\, 31\, 30)\; font-size: 11pt\; font-family: Calibri\, sans-serif\; margin: 0px\;"><span style="color:#0000FF\;">Please be prepared to share and get creative\; prepare a sign\, come in a costume or with a fun storythat exemplifies whomever you&rsquo\;d like to recognize.</span></p>\n\n<p style="color: rgb(32\, 31\, 30)\; font-size: 11pt\; font-family: Calibri\, sans-serif\; margin: 0px\;">&nbsp\;</p>\n\n<div><span style="font-size:12px\;"><span style="font-family: &quot\;Lucida Sans Unicode&quot\;\, &quot\;Lucida Grande&quot\;\, sans-serif\; color: rgb(255\, 0\, 0)\;">New York Deli News</span></span></div>\n\n<div><span style="font-size:12px\;"><span style="font-family: &quot\;Lucida Sans Unicode&quot\;\, &quot\;Lucida Grande&quot\;\, sans-serif\; color: rgb(255\, 0\, 0)\;">DJCC Annual Event Dinner Special</span></span></div>\n\n<div><span style="font-size:12px\;"><span style="font-family: &quot\;Lucida Sans Unicode&quot\;\, &quot\;Lucida Grande&quot\;\, sans-serif\; color: rgb(255\, 0\, 0)\;">June 25\, 2020</span></span></div>\n\n<div>&nbsp\;</div>\n\n<div><span style="font-size:12px\;"><span style="font-family: &quot\;Lucida Sans Unicode&quot\;\, &quot\;Lucida Grande&quot\;\, sans-serif\; color: rgb(54\, 97\, 189)\;">First Course</span></span></div>\n\n<div><span style="font-size:12px\;"><span style="font-family: &quot\;Lucida Sans Unicode&quot\;\, &quot\;Lucida Grande&quot\;\, sans-serif\; color: rgb(54\, 97\, 189)\;">$3</span></span></div>\n\n<div><span style="font-size:12px\;"><span style="font-family: &quot\;Lucida Sans Unicode&quot\;\, &quot\;Lucida Grande&quot\;\, sans-serif\; color: rgb(255\, 0\, 0)\;">Chicken Noodle Soup Cup</span></span></div>\n\n<div><span style="font-size:12px\;"><span style="font-family: &quot\;Lucida Sans Unicode&quot\;\, &quot\;Lucida Grande&quot\;\, sans-serif\; color: rgb(255\, 0\, 0)\;">Small House Salad</span></span></div>\n\n<div><span style="font-size:12px\;"><span style="font-family: &quot\;Lucida Sans Unicode&quot\;\, &quot\;Lucida Grande&quot\;\, sans-serif\; color: rgb(255\, 0\, 0)\;">Matzo Ball Soup add $1</span></span></div>\n\n<div>&nbsp\;</div>\n\n<div><span style="font-size:12px\;"><span style="font-family: &quot\;Lucida Sans Unicode&quot\;\, &quot\;Lucida Grande&quot\;\, sans-serif\; color: rgb(54\, 97\, 189)\;">Entr&eacute\;e</span></span></div>\n\n<div><span style="font-size:12px\;"><span style="font-family: &quot\;Lucida Sans Unicode&quot\;\, &quot\;Lucida Grande&quot\;\, sans-serif\; color: rgb(54\, 97\, 189)\;">$14</span></span></div>\n\n<div><span style="font-size:12px\;"><span style="font-family: &quot\;Lucida Sans Unicode&quot\;\, &quot\;Lucida Grande&quot\;\, sans-serif\; color: rgb(255\, 0\, 0)\;">Plain Bagel\, Nova lox\, Cream Cheese\, lettuce\, tomato\, red onion\, capers</span></span></div>\n\n<div><span style="font-size:12px\;"><span style="font-family: &quot\;Lucida Sans Unicode&quot\;\, &quot\;Lucida Grande&quot\;\, sans-serif\; color: rgb(255\, 0\, 0)\;">Beef Brisket\, Baked Potato\, Broccoli\, Au jus</span></span></div>\n\n<div><span style="font-size:12px\;"><span style="font-family: &quot\;Lucida Sans Unicode&quot\;\, &quot\;Lucida Grande&quot\;\, sans-serif\; color: rgb(255\, 0\, 0)\;">Stuffed Cabbage\, Boiled Potatoes</span></span></div>\n\n<div>&nbsp\;</div>\n\n<div><span style="font-size:12px\;"><span style="font-family: &quot\;Lucida Sans Unicode&quot\;\, &quot\;Lucida Grande&quot\;\, sans-serif\; color: rgb(54\, 97\, 189)\;">Dessert</span></span></div>\n\n<div><span style="font-size:12px\;"><span style="font-family: &quot\;Lucida Sans Unicode&quot\;\, &quot\;Lucida Grande&quot\;\, sans-serif\; color: rgb(54\, 97\, 189)\;">$4</span></span></div>\n\n<div><span style="font-size:12px\;"><span style="font-family: &quot\;Lucida Sans Unicode&quot\;\, &quot\;Lucida Grande&quot\;\, sans-serif\; color: rgb(255\, 0\, 0)\;">Cheesecake</span></span></div>\n\n<div><span style="font-size:12px\;"><span style="font-family: &quot\;Lucida Sans Unicode&quot\;\, &quot\;Lucida Grande&quot\;\, sans-serif\; color: rgb(255\, 0\, 0)\;">Apple Strudel</span></span></div>\n\n<div><span style="font-size:12px\;"><span style="font-family: &quot\;Lucida Sans Unicode&quot\;\, &quot\;Lucida Grande&quot\;\, sans-serif\; color: rgb(255\, 0\, 0)\;">Rice Pudding</span></span></div>\n\n<div>&nbsp\;</div>\n\n<div><span style="font-size:12px\;"><span style="font-family: &quot\;Lucida Sans Unicode&quot\;\, &quot\;Lucida Grande&quot\;\, sans-serif\; color: rgb(54\, 97\, 189)\; font-weight: bold\;">No Substitutions</span></span></div>\n\n<div><span style="font-size:12px\;"><span style="font-family: &quot\;Lucida Sans Unicode&quot\;\, &quot\;Lucida Grande&quot\;\, sans-serif\; color: rgb(54\, 97\, 189)\; font-weight: bold\;">Call the Restaurant to place your order for Pick Up and let them know it&rsquo\;s for this event. Special menu and Special pricing for this event only</span></span></div>\n\n<div>&nbsp\;</div>\n\n<div><span style="font-size:12px\;"><span style="font-family: &quot\;Lucida Sans Unicode&quot\;\, &quot\;Lucida Grande&quot\;\, sans-serif\; color: rgb(255\, 0\, 0)\;">303-759-4741</span></span></div>\n
LOCATION:Via Zoom - email sheila@denverjewishchamber.com for information
UID:e.2146.2173
SEQUENCE:3
DTSTAMP:20260424T204808Z
URL:https://business.denverjewishchamber.com/events/details/annual-event-2173
END:VEVENT

END:VCALENDAR
