BEGIN:VCALENDAR
VERSION:2.0
PRODID:-//ChamberMaster//Event Calendar 2.0//EN
METHOD:PUBLISH
X-PUBLISHED-TTL:P3D
REFRESH-INTERVAL:P3D
CALSCALE:GREGORIAN
BEGIN:VEVENT
DTSTART:20190613T233000Z
DTEND:20190614T013000Z
X-MICROSOFT-CDO-ALLDAYEVENT:FALSE
SUMMARY:Annual Dinner
DESCRIPTION:Please join us as we celebrate the  past year's accomplishments of the Denver Jewish Chamber of Commerce.  We will honor our Board Members and recognize outstanding members of the Chamber and their businesses.\n\n\n\nThis event is a great opportunity for the entire membership to gather and show support for one another.  It is also a chance to welcome all of our members who have joined this past year. Please feel free to invite friends and colleagues.\n\n\n\nOur Emcee is Kathie J from Mornings Flo107.1 / Afternoons Jammin 1015.  She has been #1 in Denver Morning Radio for over 15 years. She also won an Emmy as Co-Host of the Fox31 TV Show\, Colorado's Everyday Show.\n\n\n\nCost for attendees is $75.00\n\nIncludes: Complimentary Valet Parking\, one drink\, buffet dinner with dessert. The Warwick is offering a reduced room rate for the evening for our members.  https://reservations.warwickhotels.com/rez.aspx?Hotel=78093&Chain=22256&arrive=6%2f13%2f2019&depart=6%2f14%2f2019&adult=1&child=0&promo=COURTESY18\n\nRSVP required by June 7th.\n\n\n\nThere will be vegetarian options available.  Kosher meals will be provided by East Side Kosher Deli.  You must RSVP with your Kosher meal request by May 30\, 2019. Kosher options are:\n\nGrilled Salmon Fillet (Gluten Free) or Wild Mushroom Gnocchi.  Seasonal Medley of Vegetables and Cheesecake will be included.\n\n\n\nWe look forward to seeing you there!
X-ALT-DESC;FMTTYPE=text/html:<br />\n<span style="font-size:14px\;"><span style="font-family:arial\;">Please join us as we celebrate the&nbsp\; past year&#39\;s accomplishments of the Denver Jewish Chamber of Commerce.&nbsp\; We will honor our Board Members and recognize outstanding members of the Chamber and their businesses.</span></span><br />\n<br />\n<span style="font-size: 14px\;"><span style="font-family: arial\;">This event is a great opportunity for the entire membership to gather and show support for one another.&nbsp\; It is also a chance to welcome all of our members who have joined this past year. Please feel free to invite friends and colleagues.<br />\n<br />\nOur Emcee is Kathie J from&nbsp\;<span style="color: rgb(33\, 33\, 33)\;">Mornings Flo107.1 / Afternoons Jammin 1015.&nbsp\; She has been</span></span></span><span style="color: rgb(33\, 33\, 33)\; font-family: &quot\;Segoe UI&quot\;\, &quot\;Segoe UI Web (West European)&quot\;\, &quot\;Segoe UI&quot\;\, -apple-system\, BlinkMacSystemFont\, Roboto\, &quot\;Helvetica Neue&quot\;\, sans-serif\; font-size: 15px\;"><span style="font-size: 12px\;"><span style="font-family: arial\;"><span style="font-size: 14px\;">&nbsp\;#1 in Denver Morning Radio for over 15 years. She also won an Emmy as Co-Host of the Fox31 TV Show\, Colorado&#39\;s Everyday Show.</span></span></span></span><br />\n<br />\n<span style="font-size: 14px\;"><span style="font-family: arial\;"><strong>Cost</strong>&nbsp\;for attendees is $75.00<br />\n<strong>Includes:</strong>&nbsp\;Complimentary Valet Parking\, one drink\, buffet dinner with dessert. The Warwick is offering a reduced room rate for the evening for our members.&nbsp\;&nbsp\;<a href="https://reservations.warwickhotels.com/rez.aspx?Hotel=78093&amp\;Chain=22256&amp\;arrive=6%2f13%2f2019&amp\;depart=6%2f14%2f2019&amp\;adult=1&amp\;child=0&amp\;promo=COURTESY18">https://reservations.warwickhotels.com/rez.aspx?Hotel=78093&amp\;Chain=22256&amp\;arrive=6%2f13%2f2019&amp\;depart=6%2f14%2f2019&amp\;adult=1&amp\;child=0&amp\;promo=COURTESY18</a><br />\n<strong>RSVP</strong>&nbsp\;required by June 7th.<br />\n<br />\nThere will be vegetarian options available.&nbsp\; Kosher meals will be provided by East Side Kosher Deli.&nbsp\; <strong>You must RSVP with your Kosher meal request by May 30\, 2019. </strong>Kosher options are:<br />\nGrilled Salmon Fillet (Gluten Free) or Wild Mushroom Gnocchi.&nbsp\; Seasonal Medley of Vegetables and Cheesecake will be included.<br />\n<br />\nWe look forward to seeing you there!</span></span>
LOCATION:Warwick Denver Millenium Ballroom 1776 Grant St\, Denver\, CO 80203
UID:e.2146.1783
SEQUENCE:3
DTSTAMP:20260425T111633Z
URL:https://business.denverjewishchamber.com/events/details/annual-dinner-06-13-2019-1783
END:VEVENT

END:VCALENDAR
